BEGIN:VCALENDAR
VERSION:2.0
PRODID:-//Sifu Alan Baker - ECPv6.15.20//NONSGML v1.0//EN
CALSCALE:GREGORIAN
METHOD:PUBLISH
X-WR-CALNAME:Sifu Alan Baker
X-ORIGINAL-URL:https://sifualanbaker.com
X-WR-CALDESC:Events for Sifu Alan Baker
REFRESH-INTERVAL;VALUE=DURATION:PT1H
X-Robots-Tag:noindex
X-PUBLISHED-TTL:PT1H
BEGIN:VTIMEZONE
TZID:America/New_York
BEGIN:DAYLIGHT
TZOFFSETFROM:-0500
TZOFFSETTO:-0400
TZNAME:EDT
DTSTART:20240310T070000
END:DAYLIGHT
BEGIN:STANDARD
TZOFFSETFROM:-0400
TZOFFSETTO:-0500
TZNAME:EST
DTSTART:20241103T060000
END:STANDARD
BEGIN:DAYLIGHT
TZOFFSETFROM:-0500
TZOFFSETTO:-0400
TZNAME:EDT
DTSTART:20250309T070000
END:DAYLIGHT
BEGIN:STANDARD
TZOFFSETFROM:-0400
TZOFFSETTO:-0500
TZNAME:EST
DTSTART:20251102T060000
END:STANDARD
BEGIN:DAYLIGHT
TZOFFSETFROM:-0500
TZOFFSETTO:-0400
TZNAME:EDT
DTSTART:20260308T070000
END:DAYLIGHT
BEGIN:STANDARD
TZOFFSETFROM:-0400
TZOFFSETTO:-0500
TZNAME:EST
DTSTART:20261101T060000
END:STANDARD
END:VTIMEZONE
BEGIN:VEVENT
DTSTART;VALUE=DATE:20251027
DTEND;VALUE=DATE:20251101
DTSTAMP:20260423T182741
CREATED:20250812T180005Z
LAST-MODIFIED:20250916T103302Z
UID:16150-1761523200-1761955199@sifualanbaker.com
SUMMARY:STUFF HITS THE FAN COURSE Nashville
DESCRIPTION:SHTF – This 5 day\, 40 hour class gives you the options for your tool box for those incidents that unfortunately have become to prevalent in our world today. You will be exposed in this fast-paced class to options you can use in the workplace\, at home\, around vehicles\, in public\, anywhere you may find yourself when SHTF. \nSubjects covered: \n·      Situational Awareness \n·      De-escalation \n·      Defensive Tactics \n·      Less-Than-Lethal-Pepper spray\, neuromuscular devices\, etc. \n·      Impact/Blade- Fixed/Folder-options to consider \n·      Handgun-Drills and skills \n·      Handgun set ups optics/lights \n·      Holsters-Concealed carry/other options \n·      Rifle- Drills and skills \n·      Rifle set ups-slings/optics/lights \n·      Bugout/Bugin-Bags/gear/scenarios \n·      First Aid concerns \n·      Scenarios-Decision making process \n·      Force on Force-Working in and around rooms/building \n·      Vehicle tactics-Tactics in/around \n·      Home security/safety-options and concerns \nPREREQUISITE: Intermediate Handgun/Rifle proficiency \nCOST: $1\,400.00 \nLENGTH: 40 hours-5 days \n  \n \nREQUIRED EQUIPMENT: \n\n\nReliable\, zeroed rifle \n\n\nHandgun \n\n\nReliable Holser \n\n\nThree rifle magazines with pouch(s) / Two handgun magazines with pouch(s) \n\n\nRifle Sling \n\n\nHearing and Eye Protection \n\n\nRugged Clothing and Shoes or Boots \n\n\nAMMUNITION REQUIREMENTS: \n\n\n500rounds pistol \n\n\n500rounds rifle \n\n\nSimunition rounds available at market price \n\n\nRegister here
URL:https://sifualanbaker.com/event/stuff-hits-the-fan-course-nashville-40-hours-5-days/
LOCATION:The Royal Range – Nashville Tenn\, 7741 HIGHWAY 70 SOUTH\, NASHVILLE\, TN\, 37221\, United States
ATTACH;FMTTYPE=image/webp:https://sifualanbaker.com/wp-content/uploads/2025/08/5-DAYSTUFFHITSTHEFANCOURSE.png.webp
END:VEVENT
END:VCALENDAR