BEGIN:VCALENDAR
VERSION:2.0
PRODID:-//Sifu Alan Baker - ECPv6.15.20//NONSGML v1.0//EN
CALSCALE:GREGORIAN
METHOD:PUBLISH
X-WR-CALNAME:Sifu Alan Baker
X-ORIGINAL-URL:https://sifualanbaker.com
X-WR-CALDESC:Events for Sifu Alan Baker
REFRESH-INTERVAL;VALUE=DURATION:PT1H
X-Robots-Tag:noindex
X-PUBLISHED-TTL:PT1H
BEGIN:VTIMEZONE
TZID:America/New_York
BEGIN:DAYLIGHT
TZOFFSETFROM:-0500
TZOFFSETTO:-0400
TZNAME:EDT
DTSTART:20250309T070000
END:DAYLIGHT
BEGIN:STANDARD
TZOFFSETFROM:-0400
TZOFFSETTO:-0500
TZNAME:EST
DTSTART:20251102T060000
END:STANDARD
BEGIN:DAYLIGHT
TZOFFSETFROM:-0500
TZOFFSETTO:-0400
TZNAME:EDT
DTSTART:20260308T070000
END:DAYLIGHT
BEGIN:STANDARD
TZOFFSETFROM:-0400
TZOFFSETTO:-0500
TZNAME:EST
DTSTART:20261101T060000
END:STANDARD
BEGIN:DAYLIGHT
TZOFFSETFROM:-0500
TZOFFSETTO:-0400
TZNAME:EDT
DTSTART:20270314T070000
END:DAYLIGHT
BEGIN:STANDARD
TZOFFSETFROM:-0400
TZOFFSETTO:-0500
TZNAME:EST
DTSTART:20271107T060000
END:STANDARD
END:VTIMEZONE
BEGIN:VEVENT
DTSTART;VALUE=DATE:20260828
DTEND;VALUE=DATE:20260831
DTSTAMP:20260423T051843
CREATED:20250924T124347Z
LAST-MODIFIED:20260319T215337Z
UID:16549-1787875200-1788134399@sifualanbaker.com
SUMMARY:Legacy Academy Training Summit
DESCRIPTION:2026 Legacy Academy Training Summit\nThe Legacy Academy Training Summit is a concentrated\, hands-on immersion for serious martial artists and coaches who want to deepen their craft and reconnect with authentic training. Over three intense days\, you’ll train the core mechanics and live applications that tie the arts together: Filipino Kali\, Legacy Jeet Kune Do\, Wing Chun\, Thai Boxing\, and Chinese Boxing\, with optional labs in Brazilian Jiu-Jitsu and Submission Wrestling. Every session is designed for progress. You’ll refine your structure\, timing\, and entries through partner drills and guided flow work. You’ll walk away with a tighter\, more connected skill set and the optional Legacy Academy Online Platform to keep your momentum going after the event. Full Admission participants also gain exclusive access to two focused sessions: the Keysi Fighting Method and The Warriors Path Program\, an inside look at the mindset\, structure\, and personal growth system created by Sifu Alan Baker. \nGet More Information HERE\n  \n\n  \n      \n \nThe Problem with Most Martial Arts Events\nMost training events offer a few sessions on one system\, led by a handful of instructors\, and then send you home with disconnected notes and no real plan to continue your growth. You get inspired for a weekend\, but the lessons fade as soon as you’re back on your own mat. Even worse\, most practitioners never get to experience the arts as they were meant to be\, connected. They train in isolated systems\, learning fragments rather than understanding how structure\, timing\, and mechanics intersect across different styles. The result? Slow progress\, shallow understanding\, and no real way to tie it all together. \nThat’s why the Legacy Academy Summit exists: to give you access to multiple rare systems in one immersive experience\, all unified through intelligent progressions. And with the Legacy Academy Online Platform\, you’ll have the support to keep training\, refining\, and improving long after the event ends. \nEvent Schedule Can Be Found Here: Summitschedule\n  \n\n  \nRegister EARLY! \nChoose your access: Pay by Session at $100 each (up to 3 general-admission sessions; excludes evening Keysi and Warriors Path specials)\, or go Full Admission for the entire weekend at $449 Early Bird (through May 1)\, $549 Standard\, or $649 Last-Minute/At the Door. \nTo register for this event Click here: https://sifualanbaker.com/legacy-summit/#legacysummitprice \n  \n   \nAdditional Study Options\nIf you want to get more out of this C-Tac training (or show up already speaking the same language)\, take a little time to study the supporting material ahead of the event. We have foundational videos\, concepts\, and drills inside the C-Tac platform that will give you the context for how we train and why we structure things the way we do. This is where you can get familiar with the core C-Tac principles we’ll be applying: awareness and pre-assault recognition\, managing critical distance\, pressure-tested shielding\, practical grappling that supports weapons access\, and how we connect tactics\, timing\, and body mechanics into a system that’s built for real-world use. If you want to sharpen your fundamentals and step onto the mat already dialed in\, start there and come in ready to train. Learn More On The Website HERE:  https://civtaccoach.com/\nSchedule An Event With Professor Alan \nWe’re already booking seminars\, workshops\, and training camps for 2026. If you’re an academy owner\, program director\, or training coordinator and you’d like to host an event with Professor Alan Baker\, the best way to get the process started is to contact our Operations Director\, Jennifer Wood. Jennifer handles scheduling\, travel logistics\, and event coordination\, and she’ll help you lock in dates and get everything organized on your end.   \nYou can reach Jennifer through our Team page here: https://sifualanbaker.com/our-team/ \n \nNeed Training Gear For The Event? \nVisit our Amazon shop to access the same training gear we use in our programs. Each item is selected for real-world performance and reliability. Click the link below to explore the gear. \nhttps://www.amazon.com/shop/sifualanbaker\nPhysical Requirements\n\n\n\nParticipation in this program requires a basic level of mobility and fitness\, including the ability to get down to one knee and return to standing safely. We also understand that injuries\, limitations\, and medical considerations are common. When appropriate\, we can modify drills and training methods to support your participation while maintaining the safety and core intent of the training. If you have any concerns\, please let us know ahead of time so we can plan smart adjustments. We aim to provide a high-quality learning experience for every participant\, and we will make reasonable modifications when needed unless doing so would fundamentally change the nature of the training or create a safety risk. \n\n\n\nBefore engaging in any physical activity\, including this event\, it’s advisable to consult with your doctor for guidance and to ensure it’s suitable for your health and fitness level. \n \nRelease Form\nIf you have not signed our release form this year\, we will need you to do so HERE: https://form.jotform.com/250637570654158  
URL:https://sifualanbaker.com/event/legacy-academy-training-summit/
LOCATION:Atlanta Martial Arts Center\, 180 Parkway 575\, Suite 110\, Woodstock\, GA 30188\, Woodstock\, GA\, 30188\, United States
CATEGORIES:Brazilian Jiu-Jitsu,C-Tac (Civilian Tactical),Filipino Martial Arts,Jeet Kune Do,Keysi Fighting Method,Thai Boxing,Warriors Path,Wing Chun
ATTACH;FMTTYPE=image/jpeg:https://sifualanbaker.com/wp-content/uploads/2025/09/legacy-academy-2026.jpg
END:VEVENT
END:VCALENDAR