BEGIN:VCALENDAR
VERSION:2.0
PRODID:-//Sifu Alan Baker - ECPv6.15.20//NONSGML v1.0//EN
CALSCALE:GREGORIAN
METHOD:PUBLISH
X-WR-CALNAME:Sifu Alan Baker
X-ORIGINAL-URL:https://sifualanbaker.com
X-WR-CALDESC:Events for Sifu Alan Baker
REFRESH-INTERVAL;VALUE=DURATION:PT1H
X-Robots-Tag:noindex
X-PUBLISHED-TTL:PT1H
BEGIN:VTIMEZONE
TZID:America/New_York
BEGIN:DAYLIGHT
TZOFFSETFROM:-0500
TZOFFSETTO:-0400
TZNAME:EDT
DTSTART:20250309T070000
END:DAYLIGHT
BEGIN:STANDARD
TZOFFSETFROM:-0400
TZOFFSETTO:-0500
TZNAME:EST
DTSTART:20251102T060000
END:STANDARD
BEGIN:DAYLIGHT
TZOFFSETFROM:-0500
TZOFFSETTO:-0400
TZNAME:EDT
DTSTART:20260308T070000
END:DAYLIGHT
BEGIN:STANDARD
TZOFFSETFROM:-0400
TZOFFSETTO:-0500
TZNAME:EST
DTSTART:20261101T060000
END:STANDARD
BEGIN:DAYLIGHT
TZOFFSETFROM:-0500
TZOFFSETTO:-0400
TZNAME:EDT
DTSTART:20270314T070000
END:DAYLIGHT
BEGIN:STANDARD
TZOFFSETFROM:-0400
TZOFFSETTO:-0500
TZNAME:EST
DTSTART:20271107T060000
END:STANDARD
END:VTIMEZONE
BEGIN:VEVENT
DTSTART;VALUE=DATE:20260606
DTEND;VALUE=DATE:20260607
DTSTAMP:20260423T064820
CREATED:20260307T161118Z
LAST-MODIFIED:20260318T104614Z
UID:18755-1780704000-1780790399@sifualanbaker.com
SUMMARY:SELF DEFENSE SEMINAR: Milford Maine
DESCRIPTION:  \nSelf Defense Seminar With Sifu Alan Baker\nProvidence Training Grounds:  Milford\, ME\, United States\, 04461\nJune 6th\, 2026\n  \n\nThis event will be taught as a mixed-system study\, drawing from several of the training programs I work with professionally. The material will primarily come from the C-Tac® System\, the Keysi Fighting Method\, and elements of the Protection Response Tactics (PRT) program. Each of these systems contributes a different layer of understanding to real-world personal protection. \nThe C-Tac program provides the overall framework for civilian self-defense. It focuses on situational awareness\, managing distance\, integrated striking and grappling\, and understanding how empty-hand skills connect with modern defensive tools such as firearms\, knives\, and everyday carry equipment. The goal is to give students a clear blueprint for recognizing danger early\, managing the initial contact\, and solving problems in realistic environments. \nFrom the Keysi Fighting Method\, we draw close-range striking concepts\, defensive structures\, and methods for dealing with chaotic attacks at clinch and impact range. Keysi emphasizes protecting the head\, controlling space\, and maintaining offensive capability when the fight collapses into tight quarters. \nWe will also incorporate material from the Protection Response Tactics program\, which was developed for the protection and private security industry. PRT focuses on legally defensible control methods\, positional dominance\, and managing force appropriately when dealing with aggressive individuals. These methods help bridge the gap between self-defense\, professional security work\, and real-world confrontation management. \nThroughout the event we will work through multiple levels of force\, beginning with awareness and positioning\, moving into control and defensive responses\, and progressing into higher-level assault-counter tactics when avoidance or de-escalation is no longer possible. The goal is to give students a practical understanding of how these systems connect and how to apply them intelligently in real situations. \n  \n\n  \nTaught By Sifu Alan Baker \n \nSifu/Guro Alan Baker is a full-time martial arts instructor and program designer with over four decades of experience teaching practical self-defense and combative skills. His work focuses on helping students develop functional abilities in striking\, weapons\, and integrated personal protection systems that apply to real-world situations. Drawing from a lifetime of training across multiple martial traditions\, Alan emphasizes intelligent mechanics\, strong fundamentals\, and adaptable tactics that work under pressure. \nAlan holds the rank of Full Instructor and Mataas Na Guro in Filipino Kali (Eskrima) under Guro Dan Inosanto and is also a Full Instructor in Lee Jun Fan Gung Fu and Jeet Kune Do under Sifu Dan Inosanto. His background includes extensive study in Filipino Martial Arts\, edged weapon tactics\, and tactical movement\, with additional instruction in Pekiti-Tirsia under Tuhon Tim Waid\, where he developed a strong focus on footwork\, range control\, and weapon application. He is also a Kru in Muay Thai Boxing under Ajarn Surachai “Chai” Sirisute\, bringing a powerful striking base to his overall approach. \nIn addition\, Alan is a Full Instructor in Progressive Martial Arts under Guro Paul Vunak\, known for building aggressive\, pressure-oriented combat skills\, and a Guro Level Three in Maphilindo Silat under Guro Dan Inosanto\, contributing elements of off-balancing\, limb control\, and positional dominance to his training methods. \nThrough seminars\, instructor programs\, and academy training\, Alan’s goal is simple: to provide students with clear\, effective self-defense skills rooted in proven martial traditions while adapting those principles for the realities of modern personal protection. \n\nAdditional Study Options\nThe C-Tac® Program\nIf you want to get more out of this event\, or show up already speaking the same language\, take some time to study the supporting material inside the C-Tac program. The system was built to provide a clear framework for practical self-defense training\, including awareness\, range management\, and integrated weapons access. Reviewing the material ahead of time will help you understand the concepts behind how we train and why the methods work. \nInside the program you’ll find a structured path for developing the core principles we’ll be working with during the event. This includes movement\, positioning\, timing\, and the integration of striking\, grappling\, and weapon access within a realistic self-defense context. If you want to sharpen your fundamentals and arrive already dialed in\, this is a great place to begin. \nC-Tac was developed to give students a reliable source of ongoing training\, even if they can’t work with me in person regularly. Through the online platform\, you’ll gain access to structured curriculum\, drills\, and instructional material that you can study at your own pace. You can train solo\, work with a partner\, or use it to support what you are already doing in your gym. \nFor those who want to go deeper\, the online training connects directly to live training opportunities through instructor camps\, seminars\, and other events throughout the year. The online material provides the roadmap. The in-person training refines it through coaching\, corrections\, and pressure-tested work. \nLearn more here: https://civilianTacticalcoach.com\n  \n\n  \n  \nSchedule An Event With Sifu Alan \nWe’re already booking seminars\, workshops\, and training camps for 2026. If you’re an academy owner\, program director\, or training coordinator and you’d like to host an event with Professor Alan Baker\, the best way to get the process started is to contact our Operations Director\, Jennifer Wood. Jennifer handles scheduling\, travel logistics\, and event coordination\, and she’ll help you lock in dates and get everything organized on your end.   \nYou can reach Jennifer through our Team page here: https://sifualanbaker.com/our-team/ \n   \nNeed Training Gear For The Event? \nVisit our Amazon shop to access the same training gear we use in our programs. Each item is selected for real-world performance and reliability. Click the link below to explore the gear. \nhttps://www.amazon.com/shop/sifualanbaker   \n  \n\nPhysical Requirements\n\n\n\nParticipation in this program requires a basic level of mobility and fitness\, including the ability to get down to one knee and return to standing safely. We also understand that injuries\, limitations\, and medical considerations are common. When appropriate\, we can modify drills and training methods to support your participation while maintaining the safety and core intent of the training. If you have any concerns\, please let us know ahead of time so we can plan smart adjustments. We aim to provide a high-quality learning experience for every participant\, and we will make reasonable modifications when needed unless doing so would fundamentally change the nature of the training or create a safety risk. \n\n\n\nBefore engaging in any physical activity\, including this event\, it’s advisable to consult with your doctor for guidance and to ensure it’s suitable for your health and fitness level. \n  \n\nRelease Form\nIf you have not signed our release form this year\, we will need you to do so HERE: https://form.jotform.com/250637570654158  \n\n  \n  \n  \n  \n  \n  \n 
URL:https://sifualanbaker.com/event/self-defense-seminar-milford-maine/
LOCATION:Providence Training Grounds\, Milford\, Maine\, 04461
CATEGORIES:C-Tac (Civilian Tactical),Keysi Fighting Method
ATTACH;FMTTYPE=image/jpeg:https://sifualanbaker.com/wp-content/uploads/2026/03/SIFU-ALAN-SEMINAR.-.jpg
END:VEVENT
BEGIN:VEVENT
DTSTART;TZID=America/New_York:20260613T090000
DTEND;TZID=America/New_York:20260613T120000
DTSTAMP:20260423T064820
CREATED:20251018T173641Z
LAST-MODIFIED:20260218T164339Z
UID:16801-1781341200-1781352000@sifualanbaker.com
SUMMARY:Brazilian Jiu-Jitsu Seminar
DESCRIPTION:Professor Alan Baker Brazilian Jiu-Jitsu Seminar\n\nJune 13\, 2026 from 9 am to 12 pm\nProfessor Alan Baker returns to Athens\, Georgia on June 13\, 2026 for another Brazilian Jiu-Jitsu seminar. This session will explore everything from core fundamentals to advanced mechanical concepts\, with a strong focus on material from Alan’s specialized Living Mechanics Jiu-Jitsu program. The seminar is open to all practitioners\, regardless of rank or experience level. Everyone is welcome to join and train.\nRegister here\n\n  \nProfessor Alan Baker brings a rare and well-rounded perspective to the art of grappling. He holds a fourth-degree black belt in Brazilian Jiu-Jitsu under Master Pedro Sauer\, a prestigious Full Instructorship under Master Erik Paulson\, and a second-degree black belt in Judo. In addition\, he holds instructor ranks in Filipino Dumog and Silat\, giving him deep experience across both Eastern and Western grappling systems. This diverse background allows him to teach with a highly specialized approach\, blending structure\, leverage\, and adaptability. Drawing from decades of cross-disciplinary study\, Professor Baker tailors his instruction to every student on the mat\, helping practitioners of all styles and levels develop a more complete and intelligent understanding of grappling. \nThis is the opportunity to experience high-level Brazilian Jiu-Jitsu directly from Professor Alan Baker. This seminar is designed to refine fundamental mechanics\, expand understanding of leverage and control\, and expose students to unique methods drawn from Alan’s Living Mechanics Jiu-Jitsu program. Participants will leave with clearer structure\, improved efficiency\, and a deeper grasp of how to apply Jiu-Jitsu principles in real situations. \n  \n\n  \nWhat is Brazilian Jiu-Jitsu?\n \nBrazilian Jiu-Jitsu (BJJ) is a martial art focused on leverage\, control\, and technique rather than size or strength.It teaches practitioners how to defend themselves by using positional control\, joint locks\, and chokeholds to neutralize an opponent. The art emphasizes ground fighting\, where most real altercations tend to end\, and it builds both physical skill and mental discipline through live\, hands-on practice. BJJ is often described as “human chess” because it challenges you to think strategically while applying precise mechanics. It’s one of the most effective self-defense systems in the world and a proven foundation for fitness\, confidence\, and personal growth. \nBrazilian Jiu-Jitsu was built on the principle that knowledge and leverage can overcome size and strength. Preserving that truth matters. This seminar exists to return to the art’s foundation\, efficiency\, structure\, and intelligent mechanics\, taught in a way that honors the lineage and advances the next generation of practitioners. Professor Baker’s mission is to help good people train smarter\, protect themselves\, and pass on authentic knowledge that strengthens the community. \n  \n\n  \nReserve Your Spot for the Athens BJJ Seminar\nDon’t miss this opportunity to train with one of the most well-rounded grappling instructors in the world. Space is limited to maintain hands-on instruction and individual feedback. \nJoin us on June 13\, 2026 in Athens\, Georgia. \nTrain smarter. Learn deeper. Experience Brazilian Jiu-Jitsu the way it was meant to be taught. \nClick Here & Register Now\nYou’ll leave with a clearer understanding of Jiu-Jitsu’s structure and how to make your techniques more efficient and effective. You’ll feel real improvement in your balance\, pressure\, and control. More importantly\, you’ll gain new perspective on how to train smarter\, not just harder\, and how to refine your personal game plan. Whether you’re a student or an instructor\, this experience will elevate your skill\, sharpen your awareness\, and reignite your motivation on the mat. \n  \n\n  \nLocation \n\nGracie Jiu Jitsu Athens (Georgia)\n165 Ben Burton Rd\, STE D.Bogart\, Ga 30622\n 706-549-1671\ngraciejiujitsuathens@gmail.com\nWEBSITE\n\n\nAditional Study Options\n \nIf you want to get more out of this seminar (or show up already speaking the same language)\, you can study Professor Alan Baker’s Brazilian Jiu-Jitsu methods ahead of time and access supporting material through his BJJ page here: https://sifualanbaker.com/alan-baker-brazilian-jiu-jitsu/ \nThis is where you can dig into Alan’s Living Mechanics approach to Jiu-Jitsu: the core principles that make positions work\, how to build timing and pressure without relying on size\, and how Alan connects tactics\, strategy\, and body mechanics into a functional game you can actually apply. If you want to sharpen your fundamentals and get familiar with the training concepts we’ll be using at the seminar\, start there and come in ready to train. \n\n  \nSchedule An Event With Professor Alan \nWe’re already booking seminars\, workshops\, and training camps for 2026. If you’re an academy owner\, program director\, or training coordinator and you’d like to host an event with Professor Alan Baker\, the best way to get the process started is to contact our Operations Director\, Jennifer Wood. Jennifer handles scheduling\, travel logistics\, and event coordination\, and she’ll help you lock in dates and get everything organized on your end.   \nYou can reach Jennifer through our Team page here: https://sifualanbaker.com/our-team/ \n  \n  \n  \n 
URL:https://sifualanbaker.com/event/brazilian-jiu-jitsu-seminar/
LOCATION:Gracie Jiu-Jitsu Athens Georgia\, 165 Ben Burton Rd\, STE D.Bogart\, Ga 30622\, Athens\, GA\, 306622\, United States
CATEGORIES:Brazilian Jiu-Jitsu
ATTACH;FMTTYPE=image/jpeg:https://sifualanbaker.com/wp-content/uploads/2025/10/Randy-BJJ-Seminar-2024-sarasota-yetti.jpg
END:VEVENT
END:VCALENDAR