BEGIN:VCALENDAR
VERSION:2.0
PRODID:-//Sifu Alan Baker - ECPv6.15.20//NONSGML v1.0//EN
CALSCALE:GREGORIAN
METHOD:PUBLISH
X-ORIGINAL-URL:https://sifualanbaker.com
X-WR-CALDESC:Events for Sifu Alan Baker
REFRESH-INTERVAL;VALUE=DURATION:PT1H
X-Robots-Tag:noindex
X-PUBLISHED-TTL:PT1H
BEGIN:VTIMEZONE
TZID:America/New_York
BEGIN:DAYLIGHT
TZOFFSETFROM:-0500
TZOFFSETTO:-0400
TZNAME:EDT
DTSTART:20250309T070000
END:DAYLIGHT
BEGIN:STANDARD
TZOFFSETFROM:-0400
TZOFFSETTO:-0500
TZNAME:EST
DTSTART:20251102T060000
END:STANDARD
BEGIN:DAYLIGHT
TZOFFSETFROM:-0500
TZOFFSETTO:-0400
TZNAME:EDT
DTSTART:20260308T070000
END:DAYLIGHT
BEGIN:STANDARD
TZOFFSETFROM:-0400
TZOFFSETTO:-0500
TZNAME:EST
DTSTART:20261101T060000
END:STANDARD
BEGIN:DAYLIGHT
TZOFFSETFROM:-0500
TZOFFSETTO:-0400
TZNAME:EDT
DTSTART:20270314T070000
END:DAYLIGHT
BEGIN:STANDARD
TZOFFSETFROM:-0400
TZOFFSETTO:-0500
TZNAME:EST
DTSTART:20271107T060000
END:STANDARD
END:VTIMEZONE
BEGIN:VEVENT
DTSTART;TZID=America/New_York:20260214T100000
DTEND;TZID=America/New_York:20260214T130000
DTSTAMP:20260423T064958
CREATED:20251223T124922Z
LAST-MODIFIED:20251223T133057Z
UID:17606-1771063200-1771074000@sifualanbaker.com
SUMMARY:Chattanooga/Ooltewah Brazilian Jiu-Jitsu Seminar
DESCRIPTION:Brazilian Jiu-Jitsu Seminar in Ooltewah\, TN\nWith Professor Alan Baker\nIf you want tight mechanics\, pressure-tested fundamentals\, and a clear strategy you can actually apply\, this seminar is for you. We’re bringing a focused Brazilian Jiu-Jitsu training day to Ooltewah Jiu-Jitsu Academy with material designed to work against real resistance\, including larger\, stronger\, more aggressive opponents.\n \n\nEvent Details\n\nDate: February 14th\, 2026\nTime: 10:00 AM to 1:00 PM\nLocation: Ooltewah Jiu-Jitsu Academy\nAddress: 6711 Mountain View\, Ooltewah\, TN 37363\nCost: Contact the academy for pricing\nRegister: Contact the academy to reserve your spot\nQuestions: ooltewahjja@gmail.com\n\nWhat This Seminar Is\nThis is not a “here’s 40 techniques” kind of seminar. My focus is tactics and game strategy\, built on mechanics\, timing\, and positional science. You’ll learn how to solve problems\, not just memorize moves\, so your jiu-jitsu holds up when the other person is strong\, fast\, and not cooperating. \nWhat We’ll Cover\nExact content will be adjusted to the skill level in the room\, but the training will revolve around: \n\nThe science of position: alignment\, posture\, base\, and pressure\nMovement that creates advantage: angles\, wedges\, frames\, and timing\nEscapes and recoveries that keep you from getting stuck underneath\nControl and transitions that lead to dominant positions\nHigh-percentage attacks that come from control\, not hope\nSimple tactical decision-making you can use in rolling immediately\n\nWho This Seminar Is For\n\nBeginners who want a faster learning curve and fewer bad habits\nIntermediate students who want better efficiency and sharper mechanics\nAdvanced students who want higher-level problem solving and detail\nCoaches who want a structured way to teach mechanics and strategy\n\nWhat To Bring\n\nGi and belt\nWater\nNotebook (optional)\nA readiness to train and learn\n\nAbout Professor Alan Baker\nAlan Baker is a globally recognized martial arts and self-defense instructor\, author\, and speaker. Known as the “Agent of Change\,” he has trained for over four decades and has taught professionally since 1990\, working with thousands of students over the past 30+ years. \nProfessor Baker is a 4th Degree Brazilian Jiu-Jitsu Black Belt under Pedro Sauer\, a Full Instructor under Erik Paulson\, and a 2nd Degree Judo Black Belt under Master Bob Byrd. His approach to Brazilian Jiu-Jitsu is built on a broad base of study across multiple martial arts\, giving him a wider lens than many single-system instructors. That depth translates into a stronger understanding of the “human machine” and how to teach positioning and movement so the art works under pressure\, especially against bigger\, more vigorous opponents. \nIn addition\, Alan’s background working with law enforcement and the military\, along with 18 years as a bodyguard\, gives him a serious self-defense lens. This seminar will stay rooted in solid jiu-jitsu\, but it will be taught with the realism and accountability that comes from real-world experience. \nReserve Your Spot\nCost and registration are handled directly through Ooltewah Jiu-Jitsu Academy. To reserve your place\, contact the academy. \nQuestions: ooltewahjja@gmail.com \nCan beginners attend?\nYes. The material will be taught in a way that beginners can apply immediately\, while still giving depth to experienced students. \nCan people from other schools attend?\nYes. Visitors are welcome. \n\n\nAditional Study Options\n \nIf you want to get more out of this seminar (or show up already speaking the same language)\, you can study Professor Alan Baker’s Brazilian Jiu-Jitsu methods ahead of time and access supporting material through his BJJ page here: https://sifualanbaker.com/alan-baker-brazilian-jiu-jitsu/ \nThis is where you can dig into Alan’s Living Mechanics approach to Jiu-Jitsu: the core principles that make positions work\, how to build timing and pressure without relying on size\, and how Alan connects tactics\, strategy\, and body mechanics into a functional game you can actually apply. If you want to sharpen your fundamentals and get familiar with the training concepts we’ll be using at the seminar\, start there and come in ready to train. \n  \n\nLocation & Academy Details\n\nOoltewah Jiu-Jitsu Academy is a training facility in the Ooltewah and Collegedale area that emphasizes practical\, “real world” skill building through Brazilian Jiu-Jitsu and related combat sports. Their stated focus is authentic self-defense\, with training that supports Gracie Jiu-Jitsu\, Combat Submission Wrestling\, and Kickboxing as part of a well-rounded approach to personal development and functional martial arts practice.   \nThe academy positions itself as beginner-friendly and welcoming to all fitness levels\, with the expectation that consistent training builds conditioning\, mobility\, and confidence over time. On their FAQ\, they describe Brazilian Jiu-Jitsu as a self-defense martial art built around leverage and control\, using holds\, throws\, and submissions in a way that helps smaller people defend against larger opponents.   \nFor families\, they also highlight youth training as a core offering\, noting that their kids program is designed to build confidence\, discipline\, focus\, and respect\, while keeping the environment energetic and fun for younger students. \nContact info: Ooltewah Jiu-Jitsu Academy\, 6711 Mountain View Rd\, Collegedale\, TN 37363\, email ooltewahjja@gmail.com\, phone (423) 667-2374 \n\n  \nSchedule An Event With Professor Alan \nWe’re already booking seminars\, workshops\, and training camps for 2026. If you’re an academy owner\, program director\, or training coordinator and you’d like to host an event with Professor Alan Baker\, the best way to get the process started is to contact our Operations Director\, Jennifer Wood. Jennifer handles scheduling\, travel logistics\, and event coordination\, and she’ll help you lock in dates and get everything organized on your end.   \nYou can reach Jennifer through our Team page here: https://sifualanbaker.com/our-team/ \n  \n  \n  \n 
URL:https://sifualanbaker.com/event/chattanooga-ooltewah-brazilian-jiu-jitsu-seminar/
LOCATION:Ooltewah Jiu-Jitsu Academy\, 6711 Mountial View\, Ooltewah\, TN\, 37363\, United States
ATTACH;FMTTYPE=image/jpeg:https://sifualanbaker.com/wp-content/uploads/2025/12/Chattanooga-Brazilian-Jiu-Jitsu-Seminar-2026-copy.jpg
END:VEVENT
BEGIN:VEVENT
DTSTART;TZID=America/New_York:20260215T130000
DTEND;TZID=America/New_York:20260215T153000
DTSTAMP:20260423T064958
CREATED:20251206T011935Z
LAST-MODIFIED:20260119T123122Z
UID:17161-1771160400-1771169400@sifualanbaker.com
SUMMARY:Tennessee Living Mechanics Jiu-Jitus Seminar
DESCRIPTION:Brazilian Jiu-Jitsu Seminar with Professor Alan Baker\nFebruary 15\, 2026 • 1:00 PM – 3:30 PM\nThe Academy • Cleveland\, Tennessee \nStep onto the mat this February for a focused Brazilian Jiu-Jitsu seminar with Professor Alan Baker\, 4th-degree black belt under Master Pedro Sauer and Full Instructor coach under Master Erik Paulson in Combat Submission Wrestling. This is a rare chance to train with a professor who blends traditional Gracie Jiu-Jitsu\, modern mechanics\, and real-world application into a clear\, easy-to-understand system. \nOver two and a half hours\, Professor Baker will dive into the Living Mechanics approach to Brazilian Jiu-Jitsu – a method that emphasizes structure\, alignment\, leverage\, and pressure over strength or athleticism. You will work through details that immediately improve your ability to control\, escape\, and submit from key positions. \nWhat you can expect:\n• Concept-driven instruction you can plug into your game right away \n• Details on posture\, frames\, and pressure that make your Jiu-Jitsu more efficient \n• Transitions that connect positions instead of isolated moves that fall apart under resistance \n• A self-defense oriented perspective that keeps Jiu-Jitsu honest and functional \nThis seminar is open to all affiliations and is ideal for:\n• White belts looking to build a strong foundation \n• Intermediate and advanced students who want deeper detail and better mechanics \n• Instructors who want to sharpen how they teach and explain Jiu-Jitsu concepts \nCome ready to train\, take notes\, and ask questions. Professor Baker is known for his clear teaching style\, relaxed but serious atmosphere\, and his ability to make complex material accessible to every level on the mat. \nEvent Details\nDate: Saturday\, February 15\, 2026 \nTime: 1:00 PM – 3:30 PM \nLocation: \nThe Academy \n2382 Blue Springs Road \nCleveland\, TN 37311 \nwww.clevelanddefenseacademy.com \n423-284-3707 \nSpace will be limited to keep the training hands-on and detailed. \nContact The Academy to reserve your spot and secure your place on the mat with Professor Alan Baker. \n  \n\n\nAditional Study Options\n \nIf you want to get more out of this seminar (or show up already speaking the same language)\, you can study Professor Alan Baker’s Brazilian Jiu-Jitsu methods ahead of time and access supporting material through his BJJ page here: https://sifualanbaker.com/alan-baker-brazilian-jiu-jitsu/ \nThis is where you can dig into Alan’s Living Mechanics approach to Jiu-Jitsu: the core principles that make positions work\, how to build timing and pressure without relying on size\, and how Alan connects tactics\, strategy\, and body mechanics into a functional game you can actually apply. If you want to sharpen your fundamentals and get familiar with the training concepts we’ll be using at the seminar\, start there and come in ready to train. \n\n  \nSchedule An Event With Professor Alan \nWe’re already booking seminars\, workshops\, and training camps for 2026. If you’re an academy owner\, program director\, or training coordinator and you’d like to host an event with Professor Alan Baker\, the best way to get the process started is to contact our Operations Director\, Jennifer Wood. Jennifer handles scheduling\, travel logistics\, and event coordination\, and she’ll help you lock in dates and get everything organized on your end.   \nYou can reach Jennifer through our Team page here: https://sifualanbaker.com/our-team/ \n  \n  \n  \n 
URL:https://sifualanbaker.com/event/tennessee-living-mechanics-jiu-jitus-seminar/
LOCATION:The Academy Cleveland Tenn\, 2382 Blue Springs Road\, Cleveland\, TN\, 37311\, United States
ATTACH;FMTTYPE=image/jpeg:https://sifualanbaker.com/wp-content/uploads/2025/12/The-Academy-Cleveland-Tennessees-2023-yett.jpg
END:VEVENT
BEGIN:VEVENT
DTSTART;VALUE=DATE:20260221
DTEND;VALUE=DATE:20260223
DTSTAMP:20260423T064958
CREATED:20250406T132440Z
LAST-MODIFIED:20251221T122629Z
UID:14964-1771632000-1771804799@sifualanbaker.com
SUMMARY:C-Tac WEAPONIZED GRAPPLING CAMP Doylestown PA
DESCRIPTION:Two Days of C-Tac® Ground Fighting Training\nFebruary 21–22\, 2026 Combat Fitness Martial Arts – Doylestown\, PA\n \nJoin us for an immersive two-day training experience focused on the core divisions of the C-Tac® Weaponized Ground Fighting Program\, a approach that blends practical grappling\, combative control\, and weapons integration. Integrating EDC principles into all of its training ensures that the tools and gear you carry daily are effectively utilized in self-defense scenarios. Our approach emphasizes the importance of being prepared with the right EDC items—whether it’s a knife\, flashlight\, or firearm—and knowing how to deploy them efficiently under stress. Throughout our training\, you’ll learn how to incorporate your EDC into various defensive tactics\, blending these tools with your skills to maximize your protection. By making EDC an integral part of your training. \nMore Info on C-Tac® HERE \n  \nYou’ll train in 5 essential ground divisions \n🔸 EDC Grappling \nWhen weapons enter the grappling space\, everything changes. Learn how to adjust your mechanics and tactics to operate effectively in environments involving knives\, guns\, and improvised weapons. When weapon systems are introduced into the grappling environment\, fundamental changes must be made. These adjustments impact everything from mechanics and techniques to movement itself. EDC Grappling addresses these critical shifts\, ensuring your grappling skills are effective and adaptable in scenarios involving everyday carry (EDC) weapons. \n🔸 Anti-Grappling \nAnti- or counter-grappling is the study of the grappling environment\, focusing on understanding its dynamics and learning how to use them to your advantage in a fight. This approach equips you with strategies to neutralize or counter grappling techniques effectively\, turning the tables on your opponent. \n🔸 Ground Fighting \nStreet surfaces\, multiple opponents\, and sudden weapon threats demand a different kind of ground game. Train for realism\, not rules — with an emphasis on awareness\, striking\, and escape under pressure. When you incorporate weapons\, striking\, multiple opponents\, and challenging environments like sidewalks or parking lots\, the dynamics of ground fighting completely change. This approach prepares you for real-world scenarios where adaptability\, awareness\, and tactical thinking are essential for survival. \n🔸 Dog Boxing \nMaster the art of fighting from compromised or “out-of-position” situations — where things aren’t pretty\, but survival is still possible. Dog Boxing focuses on the art of “out of position” fighting\, teaching you how to effectively defend and attack when you’re in unconventional or disadvantaged positions. It’s a specialized study designed to prepare you for real-world scenarios where perfect form and positioning aren’t always an option. \n🔸 Grounded Weapons Fighting \nThis isn’t about grappling with a firearm; it’s about applying the tactical principles typically used while standing—such as maintaining distance\, achieving a superior angle\, and controlling timing—all within the context of being on the ground. These strategies go beyond the limitations of traditional grappling to give you a more comprehensive approach to ground-based combat with weapons. Control range\, angle\, and timing even when you’re down. Learn how to apply standing tactical concepts to ground environments while dealing with weapon threats. Whether you’re a martial artist\, tactical professional\, or someone serious about self-defense\, this camp will elevate your skills and mindset to a new level of readiness. \n🔸 Training Times \nSaturday/Sunday times\n• 9:30am – 12:30pm\n• 12:30pm – 1:00pm Break\n• 1:00pm – 4:00pm\n• Total hours = 12 \n🔸 Cost  \nCost\n• $300 for both days (until 12/20)\n• $325 (12/21 – 2/7)\n• $350 (2/8 – 2/21)\n• $160 for one day (until 12/20)\n• $175 for one day (12/21 – 2/7)\n• $185 for one day (2/8 – 2/21) \n📍 Location: \nCombat Fitness Martial Arts Doylestown\, PA \n📅 Dates: February 21–22\, 2026 \n🔗 www.combatfitnessmartialarts.com \n📞 (215) 821-8659 \n 
URL:https://sifualanbaker.com/event/c-tac-weaponized-grappling-camp-doylestown-pa/
LOCATION:Combat Fitness Martial Arts – Doylestown\, PA\, 4099 Landisville Rd\,\, Doylestown\, PA\, 18902\, United States
ATTACH;FMTTYPE=image/jpeg:https://sifualanbaker.com/wp-content/uploads/2025/04/Weaponised-Grappling-Camp-Doylestown-PA-yetti--scaled.jpg
END:VEVENT
BEGIN:VEVENT
DTSTART;VALUE=DATE:20260227
DTEND;VALUE=DATE:20260302
DTSTAMP:20260423T064958
CREATED:20251216T115712Z
LAST-MODIFIED:20251221T123022Z
UID:17287-1772150400-1772409599@sifualanbaker.com
SUMMARY:5th ANL. CORE MEDICAL MILITARY APPRECIATION WEEKEND
DESCRIPTION:Core Medical Group’s Military Appreciation Weekend 2026\nJoin us in Beaufort\, South Carolina for an unforgettable weekend of training\, community\, and celebration.\nDates: Feb 27 – Mar 1\, 2026\nVIP Day: Feb 26\, 2026\nLocation: Beaufort\, SC\n \n\nSifu Alan Will Be Teaching A Situational Awareness / C-Tac Personal Protection Workshop\n\nThis class is a hands-on introduction to the C-Tac System\, a modern personal protection program built for real-world situations. The goal is to give you practical tools you can actually use\, without needing sport rules\, perfect conditions\, or years of specialty training.\n\nWe’ll cover the core C-Tac approach to situational awareness\, pre-contact decision-making\, and managing the moment before things go physical. From there\, we’ll move into high-percentage defensive tactics for close-range encounters\, including common street problems such as being caught off guard\, trapped in tight spaces\, or dealing with chaotic movement.\n\nYou’ll learn how C-Tac blends empty-hand skills with everyday carry realities (the fact that weapons may be present\, even if you don’t have one)\, and why context matters: cameras\, witnesses\, legal standards\, and what is socially executable in public. Expect a clear progression of drills that build mechanics\, timing\, and composure under stress.\n\nThis training is for people who want to be capable\, confident\, and prepared\, whether you’re new to self-protection or already have experience and want a more realistic framework.\n  \n\nTickets\nGeneral Admission \n\n\n$99 for the first 5 days only\, then increases to $159 \nGeneral Admission Includes: 3D archery\, BJJ\, pistol/carbine range time\, personal instruction from professionals\, live podcast interviews\, saltwater fishing\, a situational awareness class\, a trauma medicine class\, Holos readiness & recovery training\, an auction fundraiser\, lunch and dinner prepared by an executive chef\, celebrity guests\, and live music. \n\n\nFamily-Friendly We’re adding several new kids’ activities this year\, so bring the whole family. \nVIP Admission \n\n\n$1\,000 for the first 10 VIP tickets\, then increases to $1\,500 \nVIP Includes: Access to VIP Day (Feb 26)\, a machine gun shoot with retired operators\, an additional range day with industry leaders (including Sons of Liberty Gun Works\, Genesis Arms\, and Taran Tactical Innovations)\, VIP seating\, a swag bag\, free alcohol\, and a VIP raffle ticket with upgraded raffle items available only to VIP members. \n\n\n\n  \nRegistration Notes\nZeffy Checkout Tip\nWe’re using Zeffy for registration because it’s free for nonprofits. During checkout\, Zeffy will ask if you want to donate to Zeffy. This is optional\, but it auto-populates 15%. To remove it\, select “Other” and enter $0. Use link below: \nhttps://www.zeffy.com/en-US/ticketing/5th-annual-military-appreciation-weekend \n\nHotel Reservations\nAttendees will book their own hotel reservations this year. Our group rate link and instructions are included in the ticket description and in the confirmation email you receive after purchase. \nHotel: Tru by Hilton Beaufort \nGroup Name: CORE MEDICAL \nTo reserve with the group rate\, use this link: \nBooking Link: https://group.trubyhilton.com/g4wrf2 \nOr call Hilton Reservations at 1-800-HILTONS and mention “CORE MEDICAL” or code “909” to receive the group rate. \nHotel reservations can also be made by calling Hilton Reservations toll-free number at 1-800-HILTONS. Make sure you mention “CORE MEDICAL” or the unique code “909” to receive our group rate. \nJoin the Core Medical Family for a weekend of comradery\, education\, and fun! The 2026 Military Appreciation Weekend is a special event to honor and celebrate the brave men and women who serve our country. This annual event raises funds to enable Core Medical Foundation‘s mission to end Veteran\, Law Enforcement Officer\, and First Responder suicides. \nWe offer a variety of family-oriented events for all ages and for both veteran and civilians alike. There will be exciting activities such as 3D archery\, BJJ\, pistol/carbine\, machinegun & unique firearm ranges (including a night shoot with NVGs!)\, personal instruction from professionals\, fascinating classes\, delicious food\, and live music. There will also be a number of new kid’s activities this year and we highly encourage you to bring the whole family! \nDon’t miss out on this opportunity to show your support and appreciation for our brave military and law enforcement communities. All proceeds from this event will go directly to funding care and providing support to a veteran or first responder in need.
URL:https://sifualanbaker.com/event/5th-anl-core-medical-military-appreciation-weekend/
LOCATION:Beaufort\, South Carolina\, 3664 Trask Parkway\, Beaufort\, SC\, 29906
ATTACH;FMTTYPE=image/jpeg:https://sifualanbaker.com/wp-content/uploads/2025/12/millitary-weekend-2026-yetti.jpg
END:VEVENT
END:VCALENDAR