BEGIN:VCALENDAR
VERSION:2.0
PRODID:-//Sifu Alan Baker - ECPv6.15.20//NONSGML v1.0//EN
CALSCALE:GREGORIAN
METHOD:PUBLISH
X-ORIGINAL-URL:https://sifualanbaker.com
X-WR-CALDESC:Events for Sifu Alan Baker
REFRESH-INTERVAL;VALUE=DURATION:PT1H
X-Robots-Tag:noindex
X-PUBLISHED-TTL:PT1H
BEGIN:VTIMEZONE
TZID:America/New_York
BEGIN:DAYLIGHT
TZOFFSETFROM:-0500
TZOFFSETTO:-0400
TZNAME:EDT
DTSTART:20240310T070000
END:DAYLIGHT
BEGIN:STANDARD
TZOFFSETFROM:-0400
TZOFFSETTO:-0500
TZNAME:EST
DTSTART:20241103T060000
END:STANDARD
BEGIN:DAYLIGHT
TZOFFSETFROM:-0500
TZOFFSETTO:-0400
TZNAME:EDT
DTSTART:20250309T070000
END:DAYLIGHT
BEGIN:STANDARD
TZOFFSETFROM:-0400
TZOFFSETTO:-0500
TZNAME:EST
DTSTART:20251102T060000
END:STANDARD
BEGIN:DAYLIGHT
TZOFFSETFROM:-0500
TZOFFSETTO:-0400
TZNAME:EDT
DTSTART:20260308T070000
END:DAYLIGHT
BEGIN:STANDARD
TZOFFSETFROM:-0400
TZOFFSETTO:-0500
TZNAME:EST
DTSTART:20261101T060000
END:STANDARD
END:VTIMEZONE
BEGIN:VEVENT
DTSTART;TZID=America/New_York:20250712T090000
DTEND;TZID=America/New_York:20250712T163000
DTSTAMP:20260423T181138
CREATED:20250403T144341Z
LAST-MODIFIED:20250403T162935Z
UID:14915-1752310800-1752337800@sifualanbaker.com
SUMMARY:Warrior's Path\, Physical Culture Seminar - Sarasota FL
DESCRIPTION:Warrior’s Path Physical Culture Seminar \nThis is a rare opportunity to train directly with Sifu Alan Baker\, as he rarely teaches this material in a public setting. \nThis six-hour immersion event is designed to dive deep into the core pillars of the Warrior’s Path Physical Culture Program. While Sifu Alan often integrates segments of this training into other seminars\, the overwhelming response has inspired us to bring this full experience to The Martin Academy. \nWe’ll cover key components of the method throughout the day—and depending on how the training unfolds\, we may even go beyond the scheduled time to maximize the experience. \nIf you’re serious about evolving your physical practice and mindset through the Warrior’s Path\, this is an event you won’t want to miss. \n  \n  \nThe Origins of the Warrior’s Path Physical Culture Program\nSifu Alan Baker has spent decades immersed in the study of multiple Chinese martial arts systems and traditional Qigong\, maintaining the mindset of what he calls a perpetual white belt. His lifelong passion for personal evolution led him to aggressively pursue knowledge across disciplines related to self-improvement\, physical development\, and the maintenance of the human machine. \nA professional martial artist since 1990\, Sifu Baker has explored and integrated a wide range of martial arts systems throughout his career. Over time\, he began weaving together these diverse influences into a single cohesive method—what would eventually become The Warrior’s Path. Drawing from years of teaching\, training\, and real-world testing\, he authored three books—The Warrior’s Path\, Morning Mastery\, and The Universal Principles of Change—to lay the philosophical groundwork for the system. \nThis material has played a pivotal role in Sifu Alan’s recovery journey. After undergoing major shoulder and elbow surgery\, the methods taught in the Warrior’s Path—particularly those related to alignment\, expansion\, breath\, and controlled tension—became essential tools in his rehabilitation process. Not only did they accelerate his recovery\, but they’ve also allowed him to continue training at a high level in the martial arts and stay active in multiple demanding physical disciplines. \n\n“These principles aren’t just theory—they’re battle-tested in my own body\, and they’ve kept me strong\, mobile\, and capable over the long term.” \n~ Sifu Alan  \n\n  \nWhat is the Warrior’s Path Physical Culture Program?\n\nThe Warrior’s Path Physical Culture Program is a method of training designed to develop the body as a complete and capable system\, blending principles from traditional martial arts\, modern strength training\, and somatic awareness. Built on decades of experience\, this program focuses on five foundational areas of development: \n\n\nAlignment & Posture – Training the body to move with structural integrity\, Alignment and internal organization. \n\n\nExpansion & Joint Opening – Reclaiming freedom of movement by decompressing the joints and restoring space in the body. \n\n\nBreath Training – Using breath as a tool for energy regulation\, performance\, and resilience under stress\, we will be learning Sifu’s Full Cycle Breath Systom. \n\n\nTension & Stress Control – Learning to generate and release tension strategically to build power and maintain balance. This skill relates to your ability to relax the body and to development of strength in the body. \n\n\nStrength Development – Cultivating functional\, sustainable strength rooted in posture\, breath\, and body awareness. One of the key components we’ll cover at this event is developing advanced flexion control within the muscular system\, a core element of the Stone Warrior strength development method. \n\nTool Of The Physical Culture Trade – We’ll be working through Sifu’s Phase One Indian Pin Series—a distinctive approach to these powerful tools\, rooted in the Warrior’s Path Method. This series is more than just a movement practice; it’s a tool-based body-opening systemthat integrates all the foundational pillars of the program\, including alignment\, expansion\, breath control\, and tension management. It’s a unique way to unlock mobility\, build structure\, and cultivate deeper awareness through motion.\n\nMore than just a training system\, The Warrior’s Path is a living method—a way to build capability\, resilience\, and adaptability in the modern world through the wisdom of the past and the tools of today. \n  \nTo register for this event\, contact The Academy directly through the website here: https://martinacademy.com/
URL:https://sifualanbaker.com/event/warriors-path-physical-culture-seminar-sarasota-fl/
LOCATION:Martin Academy Of Martial Arts\, 6341 Porter Rd STE 5\, Sarasota\, FL 34240\, USA\, Sarasota\, Florida\, 34240\, United States
ATTACH;FMTTYPE=image/jpeg:https://sifualanbaker.com/wp-content/uploads/2025/04/Warriors-Path-Seminar.jpg
END:VEVENT
BEGIN:VEVENT
DTSTART;TZID=America/New_York:20250713T090000
DTEND;TZID=America/New_York:20250713T120000
DTSTAMP:20260423T181138
CREATED:20250112T215631Z
LAST-MODIFIED:20250423T171811Z
UID:13606-1752397200-1752408000@sifualanbaker.com
SUMMARY:Brazilian Jiu-Jitsu Seminar - Sarasota\, FL
DESCRIPTION:Professor Alan Baker and his team are excited to return to Sarasota\, Florida\, for another Brazilian Jiu-Jitsu seminar. Lavonne Martin and her incredible team always make it an exceptional experience with wonderful people. We’d love for you to join us—everyone is welcome! \nWe’ll be diving into material from the Living Mechanics Program—a system designed by Sifu Alan Baker that focuses on intelligent\, principle-based movement for self-defense and combative efficiency. \nThis program blends concepts from Brazilian Jiu-Jitsu\, Judo\, Wrestling\, and real-world tactical training to develop a functional\, pressure-tested grappling skillset. Living Mechanics emphasizes body alignment\, leverage\, timing\, and control—training students to move with structure and adaptability in both sport and street environments. Whether you’re defending against an armed threat or seeking positional dominance\, the Living Mechanics approach gives you tools that are built to perform under stress. \nContact the academy to register: https://martinacademy.com/ \n \n 
URL:https://sifualanbaker.com/event/sarasota-brazilian-jiu-jitsu-seminar/
LOCATION:Martin Academy Of Martial Arts\, 6341 Porter Rd STE 5\, Sarasota\, FL 34240\, USA\, Sarasota\, Florida\, 34240\, United States
ATTACH;FMTTYPE=image/jpeg:https://sifualanbaker.com/wp-content/uploads/2025/01/Sarasota-Brazilian-Jiu-Jitsu-seminar.jpg
END:VEVENT
BEGIN:VEVENT
DTSTART;TZID=America/New_York:20250713T130000
DTEND;TZID=America/New_York:20250713T160000
DTSTAMP:20260423T181138
CREATED:20250403T153736Z
LAST-MODIFIED:20250403T153745Z
UID:14930-1752411600-1752422400@sifualanbaker.com
SUMMARY:C-Tac Self Defense Seminar - Sararota Fl
DESCRIPTION:The C-Tac Team Returns to Sarasota – July 13 \nJoin us in Sarasota\, Florida on July 13 for an immersive C-Tac® Self-Defense Seminar\, led by the founder of the system\, Sifu Alan Baker. \nC-Tac® (Civilian Tactical Training) is a principle-based defensive system designed for real-world self-protection. It combines empty-hand techniques\, tactical grappling\, edged weapon defense\, and firearms integration\, all built around situational awareness\, legal use of force\, and environmental adaptability. Whether you’re a civilian\, martial artist\, or a professional in the protection field\, C-Tac delivers practical\, high-pressure-tested skills for personal safety. \nThis event is open to the public—no prior experience is necessary. Everyone is welcome to train with us. \nFor more information or to reserve your spot\, please contact the host academy using the links below. \n 
URL:https://sifualanbaker.com/event/c-tac-self-defense-seminar-sararota-fl/
LOCATION:Martin Academy Of Martial Arts\, 6341 Porter Rd STE 5\, Sarasota\, FL 34240\, USA\, Sarasota\, Florida\, 34240\, United States
ATTACH;FMTTYPE=image/jpeg:https://sifualanbaker.com/wp-content/uploads/2025/04/C-Tac-seminar-.jpg
END:VEVENT
BEGIN:VEVENT
DTSTART;VALUE=DATE:20250725
DTEND;VALUE=DATE:20250728
DTSTAMP:20260423T181138
CREATED:20250112T194324Z
LAST-MODIFIED:20250127T010408Z
UID:13555-1753401600-1753660799@sifualanbaker.com
SUMMARY:C-Tac Instructor Camp - Atlanta GA
DESCRIPTION:The C-Tac® System Seamlessly Integrates Everyday Carry (EDC) \nIntegrating EDC principles into all of its training ensures that the tools and gear you carry daily are effectively utilized in self-defense scenarios. Our approach emphasizes the importance of being prepared with the right EDC items—whether it’s a knife\, flashlight\, or firearm—and knowing how to deploy them efficiently under stress. Throughout our training\, you’ll learn how to incorporate your EDC into various defensive tactics\, blending these tools with your skills to maximize your protection. By making EDC an integral part of your training\, the C-Tac® System empowers you to be ready for any situation\, using the gear you have on hand every day. \nSituational Awareness \nin the C-Tac® System\, situational awareness is a fundamental component. Understanding your surroundings and being able to assess potential threats is crucial for personal safety. Our training focuses on honing your observation skills\, enhancing your ability to identify and assess potential dangers\, and developing a proactive mindset. We don’t just talk about situational awareness—we actively teach and practice techniques and drills designed to embed these critical skills into your nervous system. \nLegal Compliance \nSelf-defense should always operate within the confines of the law. With the C-Tac® System\, you’ll learn self-defense techniques that are not only effective but also legal. Our training emphasizes the importance of understanding the legal framework surrounding self-defense\, ensuring that you are equipped with the knowledge to make informed decisions in high-stress situations. \nPre-Fight Social Exchange \nRecognizing the signs of a potential confrontation before it escalates is essential. The C-Tac® System teaches you how to navigate pre-fight social exchanges\, diffusing conflicts and de-escalating situations whenever possible. By mastering effective communication and conflict resolution skills\, you can mitigate the need for physical confrontation. We ensure that everything we do remains within a framework that is both visually appropriate and socially acceptable.  \nReasonable Force Continuum \nUnderstanding the concept of reasonable force is vital for self-defense. The C-Tac® System follows a carefully structured force continuum\, guiding you through appropriate responses based on the level of threat. By adhering to this continuum\, you will learn to apply force proportionately and ethically\, ensuring your actions are justified in the eyes of the law. \nIntegrated Firearms and Empty Hand Techniques \nThe C-Tac® System recognizes the role firearms play in personal protection. Our training not only covers empty hand techniques but also integrates firearm skills seamlessly. You will learn how to effectively combine the use of firearms with empty hand techniques\, empowering you to handle diverse self-defense scenarios with confidence. \nPractical Grappling for the Street \nGround fighting and grappling can be crucial in real-life altercations. The C-Tac® System strongly emphasizes practical grappling techniques specifically tailored for self-defense situations. Our training provides you with the necessary skills to defend yourself both standing up and on the ground\, preparing you for a range of scenarios. In Tac we study 6 areas of training on the ground: \n\nGrappling: A fundamental study of grappling that blends techniques and strategies from Jiu-Jitsu\, Combat Submission Wrestling (CSW)\, Catch Wrestling\, and Shoot Boxing. This integrated approach emphasizes a more aggressive and effective style\, designed to enhance your versatility and adaptability in combat scenarios.\nEDC Grappling: When weapon systems are introduced into the grappling environment\, fundamental changes must be made. These adjustments impact everything from mechanics and techniques to movement itself. EDC Grappling addresses these critical shifts\, ensuring your grappling skills are effective and adaptable in scenarios involving everyday carry (EDC) weapons.\nAnti-Grappling: Anti- or counter-grappling is the study of the grappling environment\, focusing on understanding its dynamics and learning how to use them to your advantage in a fight. This approach equips you with strategies to neutralize or counter grappling techniques effectively\, turning the tables on your opponent.\nGround Fighting: When you incorporate weapons\, striking\, multiple opponents\, and challenging environments like sidewalks or parking lots\, the dynamics of ground fighting completely change. This approach prepares you for real-world scenarios where adaptability\, awareness\, and tactical thinking are essential for survival.\nDog Boxing: Dog Boxing focuses on the art of “out of position” fighting\, teaching you how to effectively defend and attack when you’re in unconventional or disadvantaged positions. It’s a specialized study designed to prepare you for real-world scenarios where perfect form and positioning aren’t always an option.\nGrounded Weapons Fighting: This isn’t about grappling with a firearm; it’s about applying the tactical principles typically used while standing—such as maintaining distance\, achieving a superior angle\, and controlling timing—all within the context of being on the ground. These strategies go beyond the limitations of traditional grappling to give you a more comprehensive approach to ground-based combat with weapons.\n\nLEARN MORE ABOUT THE INSTRUCTOR PROGRAM HERE: https://civtaccoach.com/ 
URL:https://sifualanbaker.com/event/c-tac-instructor-camp-2/
LOCATION:Atlanta Martial Arts Center\, 180 Parkway 575\, Suite 110\, Woodstock\, GA 30188\, Woodstock\, GA\, 30188\, United States
ATTACH;FMTTYPE=image/jpeg:https://sifualanbaker.com/wp-content/uploads/2024/10/C-Tac-Blue-Add-copy-2.jpg
END:VEVENT
BEGIN:VEVENT
DTSTART;TZID=America/New_York:20250727T140000
DTEND;TZID=America/New_York:20250727T170000
DTSTAMP:20260423T181138
CREATED:20250112T193532Z
LAST-MODIFIED:20250127T005454Z
UID:13546-1753624800-1753635600@sifualanbaker.com
SUMMARY:C-Tac Open Seminar - Atlanta GA
DESCRIPTION:We’re excited to announce that Alan Baker\, the Founder of the C-Tac Self-Defense Program\, will be teaching multiple seminars across the U.S. in 2025. \nThese seminars offer a fantastic opportunity to get acquainted with the C-Tac Program. We’ll cover the fundamentals of this unique system and explore its various components in detail. With multiple instructors on the mat to assist\, the seminar is designed to provide valuable insights for both beginners and experienced practitioners. Whether you’re new to the program or looking to enhance your skills\, there will be something relevant for everyone. \nRegister now here: https://buy.stripe.com/6oE03P5BubxB0IE00z \nMORE INFO HERE
URL:https://sifualanbaker.com/event/c-tac-open-seminar-2/
LOCATION:Atlanta Martial Arts Center\, 180 Parkway 575\, Suite 110\, Woodstock\, GA 30188\, Woodstock\, GA\, 30188\, United States
ATTACH;FMTTYPE=image/jpeg:https://sifualanbaker.com/wp-content/uploads/2024/10/C-Tac-CAMP-Academy-Seminar-july.jpg
END:VEVENT
END:VCALENDAR