BEGIN:VCALENDAR
VERSION:2.0
PRODID:-//Sifu Alan Baker - ECPv6.15.20//NONSGML v1.0//EN
CALSCALE:GREGORIAN
METHOD:PUBLISH
X-WR-CALNAME:Sifu Alan Baker
X-ORIGINAL-URL:https://sifualanbaker.com
X-WR-CALDESC:Events for Sifu Alan Baker
REFRESH-INTERVAL;VALUE=DURATION:PT1H
X-Robots-Tag:noindex
X-PUBLISHED-TTL:PT1H
BEGIN:VTIMEZONE
TZID:America/New_York
BEGIN:DAYLIGHT
TZOFFSETFROM:-0500
TZOFFSETTO:-0400
TZNAME:EDT
DTSTART:20240310T070000
END:DAYLIGHT
BEGIN:STANDARD
TZOFFSETFROM:-0400
TZOFFSETTO:-0500
TZNAME:EST
DTSTART:20241103T060000
END:STANDARD
BEGIN:DAYLIGHT
TZOFFSETFROM:-0500
TZOFFSETTO:-0400
TZNAME:EDT
DTSTART:20250309T070000
END:DAYLIGHT
BEGIN:STANDARD
TZOFFSETFROM:-0400
TZOFFSETTO:-0500
TZNAME:EST
DTSTART:20251102T060000
END:STANDARD
BEGIN:DAYLIGHT
TZOFFSETFROM:-0500
TZOFFSETTO:-0400
TZNAME:EDT
DTSTART:20260308T070000
END:DAYLIGHT
BEGIN:STANDARD
TZOFFSETFROM:-0400
TZOFFSETTO:-0500
TZNAME:EST
DTSTART:20261101T060000
END:STANDARD
END:VTIMEZONE
BEGIN:VEVENT
DTSTART;VALUE=DATE:20250502
DTEND;VALUE=DATE:20250505
DTSTAMP:20260423T210745
CREATED:20250112T185619Z
LAST-MODIFIED:20250423T152534Z
UID:13525-1746144000-1746403199@sifualanbaker.com
SUMMARY:Protection Response Tactics Instructor Course - Atlanta GA
DESCRIPTION:In today’s unpredictable world\, security threats are constant\, and as a protector\, you are responsible for mitigating risks and responding effectively. Traditional training often falls short of preparing you for the dynamic nature of these threats\, which is where our Protection Response Tactics® (PRT) program comes in. Developed by industry experts with experience in challenging environments\, PRT combines advanced defensive techniques\, strategic thinking\, and situational awareness to elevate your skills to an elite level. \nCertification training events span three days\, focusing on instructor-level development. During this time\, you’ll learn the core curriculum\, teaching drills\, and presentation skills needed to effectively deliver the Protection Response Tactics® program at your certification level. Once certified\, you can attend any PRT Instructor Training events throughout your certification period. \n\nAccess to instructor Training events throughout your certification period.\nAccess to the online video resources.\nTeaching Manuals and reference materials. \nInstructor Listing on the PRT website. \nTrained In-Person By The Founder Of The System\n\n  \nMORE INFORMATION HERE: https://prtinstructor.com/\n  \nPRT offers appropriate solutions to all levels of risk.\n\n\nProfessional bodyguards prioritize reducing risk to their clients by employing various countermeasures. Their primary goal is to avoid confrontation whenever possible\, opting for client evacuation as the preferred strategy. However\, there are situations where avoidance and evacuation are not viable options. In such cases\, the appropriate response may involve the application of physical force. The Protection Response Tactics® system equips professional bodyguards with the necessary tools to respond effectively in such scenarios.\nIn today’s context\, with the growing popularity of Mixed Martial Arts (MMA)\, professional bodyguards must contend with adversaries who possess heightened awareness and training. Despite diligent efforts to prevent conflicts\, circumstances may arise where the professional bodyguard or personal protection specialist must engage with immediate threats. The Protection Response Tactics® program addresses these challenges by providing comprehensive training and strategies to handle such encounters with reason and expertise.
URL:https://sifualanbaker.com/event/protection-response-tactics-instructor-course/
LOCATION:Atlanta Martial Arts Center\, 180 Parkway 575\, Suite 110\, Woodstock\, GA 30188\, Woodstock\, GA\, 30188\, United States
ATTACH;FMTTYPE=image/jpeg:https://sifualanbaker.com/wp-content/uploads/2024/11/CHIMP-INSTRUCTOR-TRAINNG-BUTTON-Protection-Response-Tactics--scaled.jpg
END:VEVENT
BEGIN:VEVENT
DTSTART;VALUE=DATE:20250524
DTEND;VALUE=DATE:20250527
DTSTAMP:20260423T210745
CREATED:20250112T191004Z
LAST-MODIFIED:20250127T010055Z
UID:13534-1748044800-1748303999@sifualanbaker.com
SUMMARY:Protection Response Tactics Course - Martinsburg\, WV
DESCRIPTION:In today’s high-stakes world\, the unique needs of protection agents are often overlooked in traditional martial arts and defensive tactics programs. Many programs fail to consider the visual and social perceptions of techniques used in public settings. They lack robust de-escalation methods\, crucial in managing potential conflicts without escalating to violence. Furthermore\, these programs often do not address the legal implications and litigation concerns protection agents might face in the line of duty. This gap in training can leave agents unprepared for the nuanced realities of their profession. \nProtection Response Tactics is meticulously crafted to fill this critical gap. Our program is tailored specifically for protection agents\, focusing on the subtleties of conducting oneself in high-tension scenarios while being mindful of public perception and legal ramifications. We emphasize strong de-escalation techniques\, providing agents with effective tools to diffuse conflicts without resorting to excessive force. Our comprehensive training also covers the legal aspects of protection work\, preparing agents to make informed decisions that minimize the risk of litigation. With Protection Response Tactics\, agents can confidently navigate the complexities of their role\, armed with a skill set that is both effective and conscientious. \nMORE INFO HERE: https://sifualanbaker.com/protection-response-tactics/
URL:https://sifualanbaker.com/event/protection-response-tactics-course/
LOCATION:Executive Protection Institute\, 301 Foxcroft Avenue\, Martinsburg\, WV\, 25401\, United States
ATTACH;FMTTYPE=image/jpeg:https://sifualanbaker.com/wp-content/uploads/2024/10/Protection-Response-Tactics-5-copy.jpg
END:VEVENT
END:VCALENDAR