BEGIN:VCALENDAR
VERSION:2.0
PRODID:-//Sifu Alan Baker - ECPv6.15.20//NONSGML v1.0//EN
CALSCALE:GREGORIAN
METHOD:PUBLISH
X-WR-CALNAME:Sifu Alan Baker
X-ORIGINAL-URL:https://sifualanbaker.com
X-WR-CALDESC:Events for Sifu Alan Baker
REFRESH-INTERVAL;VALUE=DURATION:PT1H
X-Robots-Tag:noindex
X-PUBLISHED-TTL:PT1H
BEGIN:VTIMEZONE
TZID:America/New_York
BEGIN:DAYLIGHT
TZOFFSETFROM:-0500
TZOFFSETTO:-0400
TZNAME:EDT
DTSTART:20240310T070000
END:DAYLIGHT
BEGIN:STANDARD
TZOFFSETFROM:-0400
TZOFFSETTO:-0500
TZNAME:EST
DTSTART:20241103T060000
END:STANDARD
BEGIN:DAYLIGHT
TZOFFSETFROM:-0500
TZOFFSETTO:-0400
TZNAME:EDT
DTSTART:20250309T070000
END:DAYLIGHT
BEGIN:STANDARD
TZOFFSETFROM:-0400
TZOFFSETTO:-0500
TZNAME:EST
DTSTART:20251102T060000
END:STANDARD
BEGIN:DAYLIGHT
TZOFFSETFROM:-0500
TZOFFSETTO:-0400
TZNAME:EDT
DTSTART:20260308T070000
END:DAYLIGHT
BEGIN:STANDARD
TZOFFSETFROM:-0400
TZOFFSETTO:-0500
TZNAME:EST
DTSTART:20261101T060000
END:STANDARD
END:VTIMEZONE
BEGIN:VEVENT
DTSTART;VALUE=DATE:20250208
DTEND;VALUE=DATE:20250210
DTSTAMP:20260423T185634
CREATED:20250112T214601Z
LAST-MODIFIED:20250112T214601Z
UID:13602-1738972800-1739145599@sifualanbaker.com
SUMMARY:Francis Fong Instructors Association Camp
DESCRIPTION:Navigating the world of martial arts\, particularly for instructors and academy owners\, involves continually seeking high-quality\, well-organized curriculums catering to various skill levels. Equally\, locating guidance on handling the business aspects of a martial arts school frequently proves challenging. The absence of communication and support from larger associations often results in individuals feeling unsupported and uncertain about their next moves. Furthermore\, internal politics within these associations can become a discouraging distraction from the central goal – enhancing martial arts instruction and fostering student growth.  \nIn response to these widespread problems\, the FFIA Association presents the FFIA Affiliate Program as an all-encompassing solution to bridge these divides. This program grants martial arts professionals the opportunity to access well-structured curriculums\, continuous education\, strategies for business development\, and a supportive community. It empowers professionals in the martial arts sector to resolve issues independently\, supplying the essential resources and backing necessary for success in this evolving field. \nYou can contact Sifu Alan Baker for more informaton on this event Here: https://sifualanbaker.com/our-team/
URL:https://sifualanbaker.com/event/francis-fong-instructors-association-camp/
LOCATION:Francis Fong Academy\, 11035 MEDLOCK BRIDGE ROAD SUITE 10\, JOHNS CREEK\, GA\, 30097\, United States
ATTACH;FMTTYPE=image/jpeg:https://sifualanbaker.com/wp-content/uploads/2025/01/472790908_1352626036175417_4095084558252679764_n.jpg
END:VEVENT
END:VCALENDAR