BEGIN:VCALENDAR
VERSION:2.0
PRODID:-//Sifu Alan Baker - ECPv6.15.20//NONSGML v1.0//EN
CALSCALE:GREGORIAN
METHOD:PUBLISH
X-ORIGINAL-URL:https://sifualanbaker.com
X-WR-CALDESC:Events for Sifu Alan Baker
REFRESH-INTERVAL;VALUE=DURATION:PT1H
X-Robots-Tag:noindex
X-PUBLISHED-TTL:PT1H
BEGIN:VTIMEZONE
TZID:America/New_York
BEGIN:DAYLIGHT
TZOFFSETFROM:-0500
TZOFFSETTO:-0400
TZNAME:EDT
DTSTART:20250309T070000
END:DAYLIGHT
BEGIN:STANDARD
TZOFFSETFROM:-0400
TZOFFSETTO:-0500
TZNAME:EST
DTSTART:20251102T060000
END:STANDARD
BEGIN:DAYLIGHT
TZOFFSETFROM:-0500
TZOFFSETTO:-0400
TZNAME:EDT
DTSTART:20260308T070000
END:DAYLIGHT
BEGIN:STANDARD
TZOFFSETFROM:-0400
TZOFFSETTO:-0500
TZNAME:EST
DTSTART:20261101T060000
END:STANDARD
BEGIN:DAYLIGHT
TZOFFSETFROM:-0500
TZOFFSETTO:-0400
TZNAME:EDT
DTSTART:20270314T070000
END:DAYLIGHT
BEGIN:STANDARD
TZOFFSETFROM:-0400
TZOFFSETTO:-0500
TZNAME:EST
DTSTART:20271107T060000
END:STANDARD
END:VTIMEZONE
BEGIN:VEVENT
DTSTART;VALUE=DATE:20261002
DTEND;VALUE=DATE:20261004
DTSTAMP:20260423T160455
CREATED:20250812T222031Z
LAST-MODIFIED:20260218T162456Z
UID:16228-1790899200-1791071999@sifualanbaker.com
SUMMARY:Alan 'dedão' Baker's Jiu-Jitsu Training Camp
DESCRIPTION:Alan “Dedão” Baker’s Jiu-Jitsu Training Camp\nStep Into the Ultimate Fight Lab Experience \nThis training camp isn’t just another seminar\, it’s inspired by the original “Fight Lab” sessions I used to run with my staff once a year. Back then\, we’d come together for a few days of intensive\, nonstop training\, and that tradition is what this camp is all about. \nAt this camp\, we’ll have a rolling schedule of drills\, open rolling sessions\, and focused rounds designed to push your limits. We’ll have a round timer running continuously\, and while you’re free to step off the mat whenever you need a break\, the training doesn’t stop. This means those who want to test themselves can stay on the mat and push hard for the entire camp\, leading to tremendous improvement over just a few days. \nIn essence\, this camp is your opportunity to immerse yourself in a continuous training environment that’s all about pushing boundaries\, refining your skills\, and taking your Jiu-Jitsu to the next level. \n\n  \nwe will follow a progressive training flow designed to build your skills from first contact to ground control. The camp will begin by working on bridging the gap\, closing distance safely and effectively against an opponent who may be striking or maintaining range. From there\, we will move into takedowns and entries designed to put you in a dominant position without exposing yourself to unnecessary risk. \nOnce on the ground\, we will train positional control strategies\, learning how to establish and maintain dominance in key positions such as side control\, mount\, and back control. We will focus on both holding these positions under pressure and transitioning fluidly between them. \nFrom dominant positions\, we will explore submission opportunities\, emphasizing mechanical efficiency\, control\, and timing. We will also address how to adapt these submissions for different environments\, including self-defense situations. \nThe flow will then reverse\, covering how to escape from bad positions\, regain control\, and work back to your feet if necessary. Throughout the camp\, every segment will be connected so that you understand how each piece fits into the bigger picture of controlling\, neutralizing\, and finishing an opponent in a real-world scenario. By the end of the event\, you will have trained through the full cycle\, from first engagement to fight conclusion \n\n  \nAs we get closer to this event\, we will post registration and pricing links here
URL:https://sifualanbaker.com/event/alan-dedao-bakers-jiu-jitsu-training-camp/
LOCATION:Atlanta Martial Arts Center\, 180 Parkway 575\, Suite 110\, Woodstock\, GA 30188\, Woodstock\, GA\, 30188\, United States
CATEGORIES:Brazilian Jiu-Jitsu
ATTACH;FMTTYPE=image/jpeg:https://sifualanbaker.com/wp-content/uploads/2025/08/DSC05253-scaled-1.jpg
END:VEVENT
END:VCALENDAR