BEGIN:VCALENDAR
VERSION:2.0
PRODID:-//Sifu Alan Baker - ECPv6.15.20//NONSGML v1.0//EN
CALSCALE:GREGORIAN
METHOD:PUBLISH
X-WR-CALNAME:Sifu Alan Baker
X-ORIGINAL-URL:https://sifualanbaker.com
X-WR-CALDESC:Events for Sifu Alan Baker
REFRESH-INTERVAL;VALUE=DURATION:PT1H
X-Robots-Tag:noindex
X-PUBLISHED-TTL:PT1H
BEGIN:VTIMEZONE
TZID:America/New_York
BEGIN:DAYLIGHT
TZOFFSETFROM:-0500
TZOFFSETTO:-0400
TZNAME:EDT
DTSTART:20250309T070000
END:DAYLIGHT
BEGIN:STANDARD
TZOFFSETFROM:-0400
TZOFFSETTO:-0500
TZNAME:EST
DTSTART:20251102T060000
END:STANDARD
BEGIN:DAYLIGHT
TZOFFSETFROM:-0500
TZOFFSETTO:-0400
TZNAME:EDT
DTSTART:20260308T070000
END:DAYLIGHT
BEGIN:STANDARD
TZOFFSETFROM:-0400
TZOFFSETTO:-0500
TZNAME:EST
DTSTART:20261101T060000
END:STANDARD
BEGIN:DAYLIGHT
TZOFFSETFROM:-0500
TZOFFSETTO:-0400
TZNAME:EDT
DTSTART:20270314T070000
END:DAYLIGHT
BEGIN:STANDARD
TZOFFSETFROM:-0400
TZOFFSETTO:-0500
TZNAME:EST
DTSTART:20271107T060000
END:STANDARD
END:VTIMEZONE
BEGIN:VEVENT
DTSTART;VALUE=DATE:20260515
DTEND;VALUE=DATE:20260518
DTSTAMP:20260423T051058
CREATED:20250812T234816Z
LAST-MODIFIED:20260218T163941Z
UID:16251-1778803200-1779062399@sifualanbaker.com
SUMMARY:CSW Coach Development Program Camp - Fullerton\, CA
DESCRIPTION:Combat Submission Wrestling Coach Development Program Camp\nI will be attending the 2026 Combat Submission Wrestling Coach Development Program (CDP) Camp as part of the training. In addition to being an active participant\, I serve as the Association Director for the Combat Submission Wrestling Association. \nIf you would like more information about this event or details on the CSW Affiliate Instructor Training Program\, you can contact me directly through this website. I will be happy to answer your questions and point you in the right direction to get involved. \n\n  \nWhat is the Coach Development Program (CDP)?\nThe Combat Submission Wrestling Coach Development Program is an advanced training camp designed specifically for CSW coaches\, affiliate instructors\, and those preparing to join the CSW instructor network. Led by Coach Erik Paulson and senior members of the CSW faculty\, the CDP is focused on both sharpening technical skill and refining the ability to teach the CSW curriculum effectively. \nOver the course of the camp\, participants work through updated curriculum modules\, drill progressions\, and live training sessions. In addition to learning new techniques\, coaches are given the tools to break down and present material in a way that is clear\, organized\, and effective for students at all levels. \nThe CDP is also a chance for CSW affiliates to stay current with the evolving system\, connect with other coaches from around the world\, and strengthen the overall quality and consistency of instruction across the association. \nFor active CSW affiliates\, the camp is often included as part of their membership\, making it one of the most valuable opportunities in the association for ongoing professional growth. \n\n 
URL:https://sifualanbaker.com/event/combat-submission-wrestling-coach-development-program-camp/
LOCATION:CSW Training Center\, 4080 Palm St\, Fullerton\, CA\, CA\, 92835\, United States
CATEGORIES:Combat Submission Wrestling
ATTACH;FMTTYPE=image/jpeg:https://sifualanbaker.com/wp-content/uploads/2025/08/Combat-Submission-Wrestling-yetti-.jpg
END:VEVENT
END:VCALENDAR