BEGIN:VCALENDAR
VERSION:2.0
PRODID:-//Sifu Alan Baker - ECPv6.15.20//NONSGML v1.0//EN
CALSCALE:GREGORIAN
METHOD:PUBLISH
X-ORIGINAL-URL:https://sifualanbaker.com
X-WR-CALDESC:Events for Sifu Alan Baker
REFRESH-INTERVAL;VALUE=DURATION:PT1H
X-Robots-Tag:noindex
X-PUBLISHED-TTL:PT1H
BEGIN:VTIMEZONE
TZID:America/New_York
BEGIN:DAYLIGHT
TZOFFSETFROM:-0500
TZOFFSETTO:-0400
TZNAME:EDT
DTSTART:20250309T070000
END:DAYLIGHT
BEGIN:STANDARD
TZOFFSETFROM:-0400
TZOFFSETTO:-0500
TZNAME:EST
DTSTART:20251102T060000
END:STANDARD
BEGIN:DAYLIGHT
TZOFFSETFROM:-0500
TZOFFSETTO:-0400
TZNAME:EDT
DTSTART:20260308T070000
END:DAYLIGHT
BEGIN:STANDARD
TZOFFSETFROM:-0400
TZOFFSETTO:-0500
TZNAME:EST
DTSTART:20261101T060000
END:STANDARD
BEGIN:DAYLIGHT
TZOFFSETFROM:-0500
TZOFFSETTO:-0400
TZNAME:EDT
DTSTART:20270314T070000
END:DAYLIGHT
BEGIN:STANDARD
TZOFFSETFROM:-0400
TZOFFSETTO:-0500
TZNAME:EST
DTSTART:20271107T060000
END:STANDARD
END:VTIMEZONE
BEGIN:VEVENT
DTSTART;VALUE=DATE:20261017
DTEND;VALUE=DATE:20261018
DTSTAMP:20260423T154259
CREATED:20260318T133057Z
LAST-MODIFIED:20260319T213259Z
UID:18791-1792195200-1792281599@sifualanbaker.com
SUMMARY:VA Beach Defensive Tactics Course
DESCRIPTION:Advanced Personal Protection Course\nPrepare yourself with a comprehensive approach to self-defense in this six-hour intensive course\, divided into two parts. This program is designed to equip participants with critical skills for real-world encounters\, emphasizing the integration of everyday carry (EDC) items\, situational awareness\, and practical self-defense strategies. \n\nOCTOBER 17\, 2026\nTactical 21\, Virginia Beach \nhttps://tactical21.com/ \n  \n\n\n  \nCourse Highlights: \n• Everyday Carry Integration: Learn to effectively utilize tools like knives\, flashlights\, and firearms in high-stress scenarios\, seamlessly blending them with empty-hand tactics. \n• Situational Awareness: Develop a proactive mindset through drills that sharpen observation skills and enhance your ability to recognize and respond to potential threats. \n• Legal Knowledge: Understand the laws surrounding self-defense and the concept of reasonable force\, ensuring your actions remain within legal boundaries. \n• Pre-Fight De-Escalation: Master non-verbal cues\, conflict resolution\, and socially acceptable techniques to diffuse situations before they escalate. Learn low-level\, soft control methods to handle non-assaultive interactions in a way that is both socially acceptable and visually appropriate\, giving you tools to manage lower-level force scenarios effectively. \n• Practical Grappling for the Street: Train in grappling techniques tailored explicitly for self-defense\, incorporating striking\, weapons\, and environmental challenges such as confined spaces or parking lots. \n• Defensive Tactics in Confined Spaces: Learn methods for defending yourself in vehicles\, against walls\, or while seated\, emphasizing adaptability in challenging environments. This course prioritizes de-escalation and soft control techniques\, making physical confrontation a last resort. Whether you’re a seasoned practitioner or new to self-defense\, you’ll gain practical tools and knowledge to handle real-world encounters with confidence. \nJoin us for this transformative training experience and take the next step in mastering personal protection. \n\n \nInstructor: Sifu Alan Baker                                                    \nAlan Baker is a globally renowned martial arts and self-defense expert. Boasting an impressive training journey spanning over 43 years\, Sifu Baker has garnered unparalleled expertise in martial arts. He has achieved advanced standing in over 20 martial arts systems\, including disciplines like Gracie Jiu-Jitsu\, Judo\, Wing Chun Kung Fu\, Zu Wei Shu Kung Fu\, Muay Thai Boxing\, and Pekiti-Tirsia-SMF Kali. Throughout his illustrious career\, Sifu Baker has had the privilege of training under the tutelage of esteemed masters such as Guro Dan Inosanto\, Ajarn Chai Sirisute\, Sifu Francis Fong\, Sensei Erik Paulson\, Master Pedro Sauer\, Sijo Dana Miller\, Ajarn Greg Nelson\, Master Bob Byrd\, Professor James Cravens\, and Tuhon Tim Waid\, solidifying his reputation as a highly accomplished martial artist. \nSifu Baker has impacted thousands internationally through Baker Defensive Tactics (BDT)\, formally AMAC Tactical Group. He has taught countermeasures and cutting-edge defensive tactics\, firearms\, & edged-weapon programs to Fortune 500 corporate security teams\, law enforcement departments\, and SWAT teams. He has been privileged to work with the Department of Defense\, & other specialized government & military groups like the U.S. Department of Homeland Security. \n  \n\n\nAdditional Study Options\nIf you want to get more out of this C-Tac training (or show up already speaking the same language)\, take a little time to study the supporting material ahead of the event. We have foundational videos\, concepts\, and drills inside the C-Tac platform that will give you the context for how we train and why we structure things the way we do. This is where you can get familiar with the core C-Tac principles we’ll be applying: awareness and pre-assault recognition\, managing critical distance\, pressure-tested shielding\, practical grappling that supports weapons access\, and how we connect tactics\, timing\, and body mechanics into a system that’s built for real-world use. If you want to sharpen your fundamentals and step onto the mat already dialed in\, start there and come in ready to train. Learn More On The Website HERE:  https://civtaccoach.com/   \n\nSchedule An Event With Sifu Alan \nWe’re already booking seminars\, workshops\, and training camps for 2026. If you’re an academy owner\, program director\, or training coordinator and you’d like to host an event with Professor Alan Baker\, the best way to get the process started is to contact our Operations Director\, Jennifer Wood. Jennifer handles scheduling\, travel logistics\, and event coordination\, and she’ll help you lock in dates and get everything organized on your end.   \nYou can reach Jennifer through our Team page here: https://sifualanbaker.com/our-team/ \n   \n\nNeed Training Gear For The Event? \nVisit our Amazon shop to access the same training gear we use in our programs. Each item is selected for real-world performance and reliability. Click the link below to explore the gear. \nhttps://www.amazon.com/shop/sifualanbaker   \n\nPhysical Requirements\n\n\n\nParticipation in this program requires a basic level of mobility and fitness\, including the ability to get down to one knee and return to standing safely. We also understand that injuries\, limitations\, and medical considerations are common. When appropriate\, we can modify drills and training methods to support your participation while maintaining the safety and core intent of the training. If you have any concerns\, please let us know ahead of time so we can plan smart adjustments. We aim to provide a high-quality learning experience for every participant\, and we will make reasonable modifications when needed unless doing so would fundamentally change the nature of the training or create a safety risk. \n\n\n\nBefore engaging in any physical activity\, including this event\, it’s advisable to consult with your doctor for guidance and to ensure it’s suitable for your health and fitness level. \n  \n\nRelease Form\nIf you have not signed our release form this year\, we will need you to do so HERE: https://form.jotform.com/250637570654158   \n\n 
URL:https://sifualanbaker.com/event/va-beach-defensive-tactics-course/
LOCATION:King Tiger Martial Arts Virginia Beach\, VA\, 3300 Holland Road #1110\, Virginia Beach\, VA\, 23452\, United States
CATEGORIES:C-Tac (Civilian Tactical)
ATTACH;FMTTYPE=image/png:https://sifualanbaker.com/wp-content/uploads/2026/03/757D717D-942E-4061-9F14-AC0D2CBE14B9.png
END:VEVENT
END:VCALENDAR