BEGIN:VCALENDAR
VERSION:2.0
PRODID:-//Sifu Alan Baker - ECPv6.15.20//NONSGML v1.0//EN
CALSCALE:GREGORIAN
METHOD:PUBLISH
X-ORIGINAL-URL:https://sifualanbaker.com
X-WR-CALDESC:Events for Sifu Alan Baker
REFRESH-INTERVAL;VALUE=DURATION:PT1H
X-Robots-Tag:noindex
X-PUBLISHED-TTL:PT1H
BEGIN:VTIMEZONE
TZID:America/New_York
BEGIN:DAYLIGHT
TZOFFSETFROM:-0500
TZOFFSETTO:-0400
TZNAME:EDT
DTSTART:20250309T070000
END:DAYLIGHT
BEGIN:STANDARD
TZOFFSETFROM:-0400
TZOFFSETTO:-0500
TZNAME:EST
DTSTART:20251102T060000
END:STANDARD
BEGIN:DAYLIGHT
TZOFFSETFROM:-0500
TZOFFSETTO:-0400
TZNAME:EDT
DTSTART:20260308T070000
END:DAYLIGHT
BEGIN:STANDARD
TZOFFSETFROM:-0400
TZOFFSETTO:-0500
TZNAME:EST
DTSTART:20261101T060000
END:STANDARD
BEGIN:DAYLIGHT
TZOFFSETFROM:-0500
TZOFFSETTO:-0400
TZNAME:EDT
DTSTART:20270314T070000
END:DAYLIGHT
BEGIN:STANDARD
TZOFFSETFROM:-0400
TZOFFSETTO:-0500
TZNAME:EST
DTSTART:20271107T060000
END:STANDARD
END:VTIMEZONE
BEGIN:VEVENT
DTSTART;VALUE=DATE:20260814
DTEND;VALUE=DATE:20260817
DTSTAMP:20260423T124815
CREATED:20250813T000439Z
LAST-MODIFIED:20251221T142141Z
UID:16259-1786665600-1786924799@sifualanbaker.com
SUMMARY:Erik Paulson's Affiliate Brazilian Jiu-Jitsu Camp 2026
DESCRIPTION:Erik Paulson’s Affiliate Brazilian Jiu-Jitsu Camp – 2026\nThe Affiliate Brazilian Jiu-Jitsu Camp is an exclusive training event for members of Erik Paulson’s Combat Submission Brazilian Jiu-Jitsu (CSBJJ) Affiliate Program. Held at the CSW Training Center in Fullerton\, California\, this camp brings together affiliates from around the world for technical updates\, curriculum review\, and hands-on training directly from the source. \nWhile the 2026 instructor lineup will be announced closer to the event\, attendees can expect an immersive weekend focused on sharpening skills\, improving coaching methods\, and staying current with the evolving CSBJJ program. \nI will be attending this camp in my role as Association Director for the Combat Submission Wrestling Association. If you would like more information about this event or the CSBJJ Affiliate Program\, please contact me directly through this website. I will be happy to answer your questions and connect you with the right resources. \n\n  \n 
URL:https://sifualanbaker.com/event/erik-paulsons-affiliate-brazilian-jiu-jitsu-camp-2026/
LOCATION:CSW Training Center\, 4080 Palm St\, Fullerton\, CA\, CA\, 92835\, United States
ATTACH;FMTTYPE=image/jpeg:https://sifualanbaker.com/wp-content/uploads/2025/08/Combat-Submission-Wrestling-yetti-.jpg
END:VEVENT
END:VCALENDAR