BEGIN:VCALENDAR
VERSION:2.0
PRODID:-//Sifu Alan Baker - ECPv6.15.20//NONSGML v1.0//EN
CALSCALE:GREGORIAN
METHOD:PUBLISH
X-WR-CALNAME:Sifu Alan Baker
X-ORIGINAL-URL:https://sifualanbaker.com
X-WR-CALDESC:Events for Sifu Alan Baker
REFRESH-INTERVAL;VALUE=DURATION:PT1H
X-Robots-Tag:noindex
X-PUBLISHED-TTL:PT1H
BEGIN:VTIMEZONE
TZID:America/New_York
BEGIN:DAYLIGHT
TZOFFSETFROM:-0500
TZOFFSETTO:-0400
TZNAME:EDT
DTSTART:20250309T070000
END:DAYLIGHT
BEGIN:STANDARD
TZOFFSETFROM:-0400
TZOFFSETTO:-0500
TZNAME:EST
DTSTART:20251102T060000
END:STANDARD
BEGIN:DAYLIGHT
TZOFFSETFROM:-0500
TZOFFSETTO:-0400
TZNAME:EDT
DTSTART:20260308T070000
END:DAYLIGHT
BEGIN:STANDARD
TZOFFSETFROM:-0400
TZOFFSETTO:-0500
TZNAME:EST
DTSTART:20261101T060000
END:STANDARD
BEGIN:DAYLIGHT
TZOFFSETFROM:-0500
TZOFFSETTO:-0400
TZNAME:EDT
DTSTART:20270314T070000
END:DAYLIGHT
BEGIN:STANDARD
TZOFFSETFROM:-0400
TZOFFSETTO:-0500
TZNAME:EST
DTSTART:20271107T060000
END:STANDARD
END:VTIMEZONE
BEGIN:VEVENT
DTSTART;VALUE=DATE:20260511
DTEND;VALUE=DATE:20260515
DTSTAMP:20260423T064758
CREATED:20250915T220750Z
LAST-MODIFIED:20251221T132347Z
UID:16418-1778457600-1778803199@sifualanbaker.com
SUMMARY:Rappel Master Certification Class
DESCRIPTION:Rappel Master Certification Class- True Adventure Sports – 60-hour class\nTwice a year Coach Alan will assist in this class under the gudeance of TAS’s Israel Partridge. This class reviews rappelling basics\, advanced rappelling\, rescue rappelling\, and tactical rappelling then covers instructor level rappel procedures. Learn each rigging type\, advanced rescue hauls\, alternate knots\, the role of a rappel master\, their protocols\, additional gear\, and instructor belaying.  You will also do several instructor rappels\, instructor level changeovers\, staged rescues\, silent entry inverted rappels\, Australian rappels\, and fast rope before returning to the store for the rappelling test and knot exam.  (Private groups are subject to a 3-person minimum) \n  \nFor more informaton of this class or the multiple other options that TAS offers. Contact us through the our team page: https://sifualanbaker.com/our-team/  \n 
URL:https://sifualanbaker.com/event/rappel-master-certification-class/
LOCATION:True Adventure Sports\, ​13102 Alabama Hwy 176\, Fort Payne\, AL\, 35967\, United States
ATTACH;FMTTYPE=image/jpeg:https://sifualanbaker.com/wp-content/uploads/2025/09/alan-rope-yetti-.jpg
END:VEVENT
END:VCALENDAR