BEGIN:VCALENDAR
VERSION:2.0
PRODID:-//Sifu Alan Baker - ECPv6.15.20//NONSGML v1.0//EN
CALSCALE:GREGORIAN
METHOD:PUBLISH
X-WR-CALNAME:Sifu Alan Baker
X-ORIGINAL-URL:https://sifualanbaker.com
X-WR-CALDESC:Events for Sifu Alan Baker
REFRESH-INTERVAL;VALUE=DURATION:PT1H
X-Robots-Tag:noindex
X-PUBLISHED-TTL:PT1H
BEGIN:VTIMEZONE
TZID:America/New_York
BEGIN:DAYLIGHT
TZOFFSETFROM:-0500
TZOFFSETTO:-0400
TZNAME:EDT
DTSTART:20250309T070000
END:DAYLIGHT
BEGIN:STANDARD
TZOFFSETFROM:-0400
TZOFFSETTO:-0500
TZNAME:EST
DTSTART:20251102T060000
END:STANDARD
BEGIN:DAYLIGHT
TZOFFSETFROM:-0500
TZOFFSETTO:-0400
TZNAME:EDT
DTSTART:20260308T070000
END:DAYLIGHT
BEGIN:STANDARD
TZOFFSETFROM:-0400
TZOFFSETTO:-0500
TZNAME:EST
DTSTART:20261101T060000
END:STANDARD
BEGIN:DAYLIGHT
TZOFFSETFROM:-0500
TZOFFSETTO:-0400
TZNAME:EDT
DTSTART:20270314T070000
END:DAYLIGHT
BEGIN:STANDARD
TZOFFSETFROM:-0400
TZOFFSETTO:-0500
TZNAME:EST
DTSTART:20271107T060000
END:STANDARD
END:VTIMEZONE
BEGIN:VEVENT
DTSTART;VALUE=DATE:20260424
DTEND;VALUE=DATE:20260427
DTSTAMP:20260423T050557
CREATED:20250812T210547Z
LAST-MODIFIED:20260319T231354Z
UID:16194-1776988800-1777247999@sifualanbaker.com
SUMMARY:Protection Response Tactics Instructor Course - Atlanta GA
DESCRIPTION:In today’s unpredictable world\, security threats are constant\, and as a protector\, you are responsible for mitigating risks and responding effectively. Traditional training often falls short of preparing you for the dynamic nature of these threats\, which is where our Protection Response Tactics® (PRT) program comes in. Developed by industry experts with experience in challenging environments\, PRT combines advanced defensive techniques\, strategic thinking\, and situational awareness to elevate your skills to an elite level. \nCertification training events span three days\, focusing on instructor-level development. During this time\, you’ll learn the core curriculum\, teaching drills\, and presentation skills needed to effectively deliver the Protection Response Tactics® program at your certification level. Once certified\, you can attend any PRT Instructor Training events throughout your certification period. \n\nAccess to instructor Training events throughout your certification period.\nAccess to the online video resources.\nTeaching Manuals and reference materials. \nInstructor Listing on the PRT website. \nTrained In-Person By The Founder Of The System\n\n  \nMORE INFORMATION HERE: https://prtinstructor.com\n  \nPRT offers appropriate solutions to all levels of risk.\n\n\nProfessional bodyguards prioritize reducing risk to their clients by employing various countermeasures. Their primary goal is to avoid confrontation whenever possible\, opting for client evacuation as the preferred strategy. However\, there are situations where avoidance and evacuation are not viable options. In such cases\, the appropriate response may involve the application of physical force. The Protection Response Tactics® system equips professional bodyguards with the necessary tools to respond effectively in such scenarios.\nIn today’s context\, with the growing popularity of Mixed Martial Arts (MMA)\, professional bodyguards must contend with adversaries who possess heightened awareness and training. Despite diligent efforts to prevent conflicts\, circumstances may arise where the professional bodyguard or personal protection specialist must engage with immediate threats. The Protection Response Tactics® program addresses these challenges by providing comprehensive training and strategies to handle such encounters with reason and expertise.
URL:https://sifualanbaker.com/event/protection-response-tactics-instructor-course-atlanta-ga-2/
LOCATION:Atlanta Martial Arts Center\, 180 Parkway 575\, Suite 110\, Woodstock\, GA 30188\, Woodstock\, GA\, 30188\, United States
CATEGORIES:Protection Response Tactics
ATTACH;FMTTYPE=image/jpeg:https://sifualanbaker.com/wp-content/uploads/2025/08/prt-instructor-camp.jpg
END:VEVENT
END:VCALENDAR