BEGIN:VCALENDAR
VERSION:2.0
PRODID:-//Sifu Alan Baker - ECPv6.15.20//NONSGML v1.0//EN
CALSCALE:GREGORIAN
METHOD:PUBLISH
X-WR-CALNAME:Sifu Alan Baker
X-ORIGINAL-URL:https://sifualanbaker.com
X-WR-CALDESC:Events for Sifu Alan Baker
REFRESH-INTERVAL;VALUE=DURATION:PT1H
X-Robots-Tag:noindex
X-PUBLISHED-TTL:PT1H
BEGIN:VTIMEZONE
TZID:America/New_York
BEGIN:DAYLIGHT
TZOFFSETFROM:-0500
TZOFFSETTO:-0400
TZNAME:EDT
DTSTART:20250309T070000
END:DAYLIGHT
BEGIN:STANDARD
TZOFFSETFROM:-0400
TZOFFSETTO:-0500
TZNAME:EST
DTSTART:20251102T060000
END:STANDARD
BEGIN:DAYLIGHT
TZOFFSETFROM:-0500
TZOFFSETTO:-0400
TZNAME:EDT
DTSTART:20260308T070000
END:DAYLIGHT
BEGIN:STANDARD
TZOFFSETFROM:-0400
TZOFFSETTO:-0500
TZNAME:EST
DTSTART:20261101T060000
END:STANDARD
BEGIN:DAYLIGHT
TZOFFSETFROM:-0500
TZOFFSETTO:-0400
TZNAME:EDT
DTSTART:20270314T070000
END:DAYLIGHT
BEGIN:STANDARD
TZOFFSETFROM:-0400
TZOFFSETTO:-0500
TZNAME:EST
DTSTART:20271107T060000
END:STANDARD
END:VTIMEZONE
BEGIN:VEVENT
DTSTART;VALUE=DATE:20260419
DTEND;VALUE=DATE:20260420
DTSTAMP:20260423T051736
CREATED:20250812T225736Z
LAST-MODIFIED:20260218T164501Z
UID:16232-1776556800-1776643199@sifualanbaker.com
SUMMARY:PSBJJ / Baker Team Affiliate Training Day
DESCRIPTION:PSBJJ / Baker Team Affiliate Training Days\n\nREGISTER WITH THIS LINK: \nhttps://buy.stripe.com/bJe9ATbTR05nbUu9Fj7EQ0N \n  \nIn 2026 I will be hosting PSBJJ / Baker Team Affiliate Training Days. These are full-day training events designed to bring our regional Pedro Sauer Brazilian Jiu-Jitsu Association community together. \nThese days will focus primarily on the official curriculum of the Pedro Sauer Brazilian Jiu-Jitsu Association. The format is inspired by the affiliate training days I ran years ago at my academy\, which were always a fantastic way for members from across the region to connect\, share knowledge\, and train as one team. \nEach training day will feature sessions taught by myself as well as senior leaders and black belts from our region who are willing to share their expertise. These events will also provide an opportunity for PSBJJ / Baker Team affiliates to test for rank. \nWe will be holding one of these affiliate training days immediately following each of my two major annual events: \n\n\nMy annual Jiu-Jitsu Conference \n\n\nMy annual Jiu-Jitsu Training Camp \n\n\nIf you are already attending one of the above events\, you are more than welcome to add on this extra day with the registration link below. \n  \n\n\nCOST: $25\nCost: Attendance is just $25 per person\, which is an incredible value for a full day of training with multiple experienced instructors. \nYou do not have to be a member of the Pedro Sauer Association to attend. If you are not currently a member but would like to participate\, contact me directly through the website and I will provide you with all the information you need. \nThese training days are about more than just techniques. They are about building relationships\, sharpening skills\, and strengthening our Jiu-Jitsu community. \n\n  \nREGISTER WITH THIS LINK: \nhttps://buy.stripe.com/bJe9ATbTR05nbUu9Fj7EQ0N \n  \n  \n 
URL:https://sifualanbaker.com/event/psbjj-baker-team-affiliate-training-day/
LOCATION:Atlanta Martial Arts Center\, 180 Parkway 575\, Suite 110\, Woodstock\, GA 30188\, Woodstock\, GA\, 30188\, United States
CATEGORIES:Brazilian Jiu-Jitsu
ATTACH;FMTTYPE=image/jpeg:https://sifualanbaker.com/wp-content/uploads/2025/08/affiliate-day-1.jpg
END:VEVENT
END:VCALENDAR