BEGIN:VCALENDAR
VERSION:2.0
PRODID:-//Sifu Alan Baker - ECPv6.15.20//NONSGML v1.0//EN
CALSCALE:GREGORIAN
METHOD:PUBLISH
X-WR-CALNAME:Sifu Alan Baker
X-ORIGINAL-URL:https://sifualanbaker.com
X-WR-CALDESC:Events for Sifu Alan Baker
REFRESH-INTERVAL;VALUE=DURATION:PT1H
X-Robots-Tag:noindex
X-PUBLISHED-TTL:PT1H
BEGIN:VTIMEZONE
TZID:America/New_York
BEGIN:DAYLIGHT
TZOFFSETFROM:-0500
TZOFFSETTO:-0400
TZNAME:EDT
DTSTART:20250309T070000
END:DAYLIGHT
BEGIN:STANDARD
TZOFFSETFROM:-0400
TZOFFSETTO:-0500
TZNAME:EST
DTSTART:20251102T060000
END:STANDARD
BEGIN:DAYLIGHT
TZOFFSETFROM:-0500
TZOFFSETTO:-0400
TZNAME:EDT
DTSTART:20260308T070000
END:DAYLIGHT
BEGIN:STANDARD
TZOFFSETFROM:-0400
TZOFFSETTO:-0500
TZNAME:EST
DTSTART:20261101T060000
END:STANDARD
BEGIN:DAYLIGHT
TZOFFSETFROM:-0500
TZOFFSETTO:-0400
TZNAME:EDT
DTSTART:20270314T070000
END:DAYLIGHT
BEGIN:STANDARD
TZOFFSETFROM:-0400
TZOFFSETTO:-0500
TZNAME:EST
DTSTART:20271107T060000
END:STANDARD
END:VTIMEZONE
BEGIN:VEVENT
DTSTART;VALUE=DATE:20260403
DTEND;VALUE=DATE:20260406
DTSTAMP:20260423T050447
CREATED:20250812T213228Z
LAST-MODIFIED:20260321T134945Z
UID:16212-1775174400-1775433599@sifualanbaker.com
SUMMARY:Keysi Fighting Method Instructor Camp
DESCRIPTION:Become a Certified Keysi Fighting Method Instructor in the US! \nAre you ready to become certified in the Keysi Fighting Method\, or do you simply want to train\, progress\, and master the system for your own personal growth? \nIntroducing the U.S. Keysi Fighting Method Instructor Training Program\, designed for both aspiring instructors seeking certification and dedicated practitioners who want to develop their skills to the highest level. \nYour Membership Includes: \n\n\nInstructor Training Camps in Atlanta\, GA – Attend our exclusive camps twice a year at no additional cost. \n\n\nOnline Instructor Video Archive – Access a comprehensive library of curriculum reference videos to support and enhance your training. \n\n\nTesting & Advancement in the System – All testing is conducted at the camps and is included in your program. \n\n\nDirect Support from U.S. Director Alan Baker & Staff – Get expert guidance whenever you need it. \n\n\nLicense to Teach – Gain the official right to teach Keysi Fighting Method in your academy or training group. \n\n\nStructured Curriculum & Testing Protocols – Follow a progressive\, phase-based training path with clear class structures and advancement guidelines. \n\n\n  \nWhether your goal is to teach Keysi or to train like a professional\, this program gives you the tools\, knowledge\, and support to succeed. \n.Start your journey today: sifualanbaker.com/keysi-fighting-method-instructor-program \n  \n 
URL:https://sifualanbaker.com/event/keysi-fighting-method-instructor-camp-2/
LOCATION:Atlanta Martial Arts Center\, 180 Parkway 575\, Suite 110\, Woodstock\, GA 30188\, Woodstock\, GA\, 30188\, United States
CATEGORIES:Keysi Fighting Method
ATTACH;FMTTYPE=image/png:https://sifualanbaker.com/wp-content/uploads/2025/08/DA4F5FBE-D0B5-4B48-AFBC-3327B2167C46.png
END:VEVENT
END:VCALENDAR