BEGIN:VCALENDAR
VERSION:2.0
PRODID:-//Sifu Alan Baker - ECPv6.15.20//NONSGML v1.0//EN
CALSCALE:GREGORIAN
METHOD:PUBLISH
X-ORIGINAL-URL:https://sifualanbaker.com
X-WR-CALDESC:Events for Sifu Alan Baker
REFRESH-INTERVAL;VALUE=DURATION:PT1H
X-Robots-Tag:noindex
X-PUBLISHED-TTL:PT1H
BEGIN:VTIMEZONE
TZID:America/New_York
BEGIN:DAYLIGHT
TZOFFSETFROM:-0500
TZOFFSETTO:-0400
TZNAME:EDT
DTSTART:20250309T070000
END:DAYLIGHT
BEGIN:STANDARD
TZOFFSETFROM:-0400
TZOFFSETTO:-0500
TZNAME:EST
DTSTART:20251102T060000
END:STANDARD
BEGIN:DAYLIGHT
TZOFFSETFROM:-0500
TZOFFSETTO:-0400
TZNAME:EDT
DTSTART:20260308T070000
END:DAYLIGHT
BEGIN:STANDARD
TZOFFSETFROM:-0400
TZOFFSETTO:-0500
TZNAME:EST
DTSTART:20261101T060000
END:STANDARD
BEGIN:DAYLIGHT
TZOFFSETFROM:-0500
TZOFFSETTO:-0400
TZNAME:EDT
DTSTART:20270314T070000
END:DAYLIGHT
BEGIN:STANDARD
TZOFFSETFROM:-0400
TZOFFSETTO:-0500
TZNAME:EST
DTSTART:20271107T060000
END:STANDARD
END:VTIMEZONE
BEGIN:VEVENT
DTSTART;TZID=America/New_York:20260329T100000
DTEND;TZID=America/New_York:20260329T130000
DTSTAMP:20260423T064943
CREATED:20260210T223647Z
LAST-MODIFIED:20260318T104336Z
UID:18513-1774778400-1774789200@sifualanbaker.com
SUMMARY:The Clinch-To-Draw Blueprint: Fighting To Your Weapon System
DESCRIPTION:  \nThe Clinch-To-Draw Blueprint: \nFighting To Your Weapon System\nMARCH 29\, 2026 10-1 PM\nRoyal Range USA In Nashville Tennessee\nCLICK HERE TO HOLD YOUR SPOT\n\n\nEvent description\nThe Goal: Give responsible gun owners a clear\, pressure-tested method to survive close contact\, create space\, and access their weapon system safely.\nThis is a three-hour\, range-based training block built for gun owners who understand a simple truth: the fight that matters most is the one that starts too close. If you carry\, your first problem is not marksmanship. Your first problem is recognizing trouble early\, surviving the initial crash\, protecting your head and belt line\, creating space\, and accessing your weapon systems when they’re actually available. \nWe’ll work on threat recognition and pre-assault indicators\, then move into close-range and “out of position” problems that happen around vehicles and in transitional spaces. You’ll learn simple\, pressure-tested shielding and positioning methods that help you stay functional under surprise contact so you can fight your way into distance and get to a tool of advantage. \nWe’re going to cover the skills that keep you alive before the fight ever “looks like a fight.” You’ll learn how to recognize threats before they bloom into violence by spotting pre-assault indicators\, physical tells\, and posting behaviors that often show up right before the first strike. We’ll then train surprise-contact protection so you can use simple\, functional shielding to protect your head and keep your brain online when the bad guy closes fast\, aiming to move from behind time to ahead of time. \nFrom there\, we’ll work out-of-position fighting from a seated position and against a wall\, focusing on what to do when you don’t have your preferred stance\, angle\, or timing\, and the bad guy is already in your space. You’ll learn how to clear attachments\, break contact\, and fight your way back into distance so you can access your weapon systems safely and intelligently. We’ll also cover protecting your belt line and your draw\, including simple\, practical ways to defend the holster area from grabs and attempted disarms\, so you don’t donate your gun in a clinch. While we won’t be running vehicle-specific scenarios in this class\, the principles you’ll learn here translate directly to the kinds of problems that often happen in and around vehicles. \n  \nMost gun owners are trained for a clean range problem\, not the messy close-range fight. They’re missing a clear blueprint for what to do before they can safely access their weapon.\n  \n\n\nAreas We Will Be Working On\n\nPre-contact positioning through the study of critical distance\nReading physical indicators and pre-assault cues from the threat\nHow to position yourself before contact so you’re starting from advantage\nManaging close-quarter punching and surprise contact\nDealing with clothing grabs and attachment fighting\nCountering attempted grabs to your belt line or weapon system\nUnderstanding force at close range and how to respond appropriately\nDelivering ballistic\, close-range counterattacks when you have no space\nTraining the material in open space first for clean reps and timing\nApplying the same problems from a seated position\nApplying the same problems pinned or pressured against a wall\nBuilding the skill of creating distance\, making space\, and earning access to your weapon system of choice\n\n  \nHave you ever had this thought: “I carry every day\, but I’ve never really trained what happens when the fight starts too close. If a guy is already on me\, grabbing and hitting\, how do I handle him\, create space\, and safely get to my weapon without donating it?”\n  \nJOIN US HERE\n  \n\n\nThe Instructor / Your Guide\nSifu/Guro Alan Baker is a high-performance coach and an internationally recognized martial arts & self-defense expert. He has over 45 years of continuous experience in the arts. He has been training continuously in the fitness and Martial Arts field since 1981 and has been teaching professionally since 1990. Baker founded the Civilian Tactical Training Association in 2015 and continues establishing C-Tac® instructors today. \nIn the course of his career\, he has earned advanced ranking and/or instructor certifications across multiple martial systems numerous instructor-level certifications in other systems under some of the industry’s most renowned teachers such as Tuhon Dan Inosanto\, Master Pedro Sauer\, Sifu Francis Fong\, Master Erik Paulson\, Ajarn Chai Sirisute\, Ajarn Greg Nelson\, Tuhon Tim Waid\, and Coach Justo Dieguez.\nIn the tactical training field\, Sifu Baker has taught countermeasures\, defensive tactics\, firearms\, and edged-weapon programs to Fortune 500 corporate security teams and law enforcement/SWAT teams throughout the United States. He has been privileged to work with and design training programs for the Department of Defense and other specialized government and military organizations.\nSifu Baker is a certified Personal Protection Specialist and the Defensive Tactics Instructor for The Executive Protection Institute in Clarke County\, Virginia. Alan also teaches a specialized defensive tactics program\, called Vehicle Centric Defensive Tactics\, for the Vehicle Dynamics Institute in New Jersey. VDI & EPI are considered the top schools for teaching Executive Protection (Bodyguards) and tactical / security driving globally. \n  \nMy goal is  you walking out with a simple\, repeatable blueprint for close-range problems: you can spot the pre-assault cues early\, manage surprise contact without losing your head\, protect your belt line from grabs\, create space under pressure\, and only access your weapon system when it’s actually safe and available\, not when it’s likely to get you tangled up or taken.\n  \n\n\nSuggested gear list\n\nConcealment holster\nSturdy belt\nInert training gun or blue gun\nTraining knife\nFocus Mitts\n\n\nPhysical Requirements\nParticipation in this program requires a fundamental level of physical fitness\, including the capacity to kneel on one knee and return to a standing position. However\, we understand that injuries and physical limitations can occur. They won’t entirely prevent you from training with us if you have any such concerns. We are committed to modifying and adapting exercises to suit your needs and conditions. Our primary goal is to provide you with a high-quality educational experience\, ensuring all participants gain valuable skills and knowledge\, regardless of physical constraints. \nBefore engaging in any physical activity\, including this event\, it’s advisable to consult with your doctor for guidance and to ensure it’s suitable for your health and fitness level. \n  \nRegester For This Event\nRegister now to lock in your spot\, show up with your carry setup and training tools\, and come train the clinch-to-draw blueprint with us on March 29 at Royal Range USA.\nTo regester for this event comtact the Royal Range USA to hold your spot: https://www.royalrangeusa.com/ \nEmail: training@royalrangeusa.com \nPhone: (615) 646-9333 \n7741 HIGHWAY 70 SOUTH\, NASHVILLE\, TN\, 37221 \nCLICK THIS LINK TO JOIN THE CLASS: https://royalrange.orchidnow.com/courses/the_clinch_to_draw_blueprint_0 \n  \nRoyal Range USA is Nashville’s best shooting range\, offering modern\, state-of-the-art indoor spaces suited for a variety of firearms. Our gun ranges are open to members and the general public alike\, from novice to expert shooters. Explore this and much\, much more at Royal Range USA! \n  \n\n  \n  \n  \n  \nAditional Study Options\nIf you want to get more out of this C-Tac training (or show up already speaking the same language)\, take a little time to study the supporting material ahead of the event. We have foundational videos\, concepts\, and drills inside the C-Tac platform that will give you the context for how we train and why we structure things the way we do. \nThis is where you can get familiar with the core C-Tac principles we’ll be applying: awareness and pre-assault recognition\, managing critical distance\, pressure-tested shielding\, practical grappling that supports weapons access\, and how we connect tactics\, timing\, and body mechanics into a system that’s built for real-world use. If you want to sharpen your fundamentals and step onto the mat already dialed in\, start there and come in ready to train. \nLearn More On The Website HERE:  https://civtaccoach.com/ \n  \nSchedule An Event With Professor Alan \nWe’re already booking seminars\, workshops\, and training camps for 2026. If you’re an academy owner\, program director\, or training coordinator and you’d like to host an event with Professor Alan Baker\, the best way to get the process started is to contact our Operations Director\, Jennifer Wood. Jennifer handles scheduling\, travel logistics\, and event coordination\, and she’ll help you lock in dates and get everything organized on your end.   \nYou can reach Jennifer through our Team page here: https://sifualanbaker.com/our-team/ \n  \nNeed Training Gear For The Event? \nVisit our Amazon shop to access the same training gear we use in our programs. Each item is selected for real-world performance and reliability. Click the link below to explore the gear. \nhttps://www.amazon.com/shop/sifualanbaker \n  \n  \n  \n  \n 
URL:https://sifualanbaker.com/event/the-clinch-to-draw-blueprint-fighting-to-your-weapon-system/
LOCATION:The Royal Range – Nashville Tenn\, 7741 HIGHWAY 70 SOUTH\, NASHVILLE\, TN\, 37221\, United States
CATEGORIES:C-Tac (Civilian Tactical)
ATTACH;FMTTYPE=image/jpeg:https://sifualanbaker.com/wp-content/uploads/2026/02/THE-ROYAL-RANGE-seminar-.jpg
END:VEVENT
END:VCALENDAR