BEGIN:VCALENDAR
VERSION:2.0
PRODID:-//Sifu Alan Baker - ECPv6.15.20//NONSGML v1.0//EN
CALSCALE:GREGORIAN
METHOD:PUBLISH
X-WR-CALNAME:Sifu Alan Baker
X-ORIGINAL-URL:https://sifualanbaker.com
X-WR-CALDESC:Events for Sifu Alan Baker
REFRESH-INTERVAL;VALUE=DURATION:PT1H
X-Robots-Tag:noindex
X-PUBLISHED-TTL:PT1H
BEGIN:VTIMEZONE
TZID:America/New_York
BEGIN:DAYLIGHT
TZOFFSETFROM:-0500
TZOFFSETTO:-0400
TZNAME:EDT
DTSTART:20250309T070000
END:DAYLIGHT
BEGIN:STANDARD
TZOFFSETFROM:-0400
TZOFFSETTO:-0500
TZNAME:EST
DTSTART:20251102T060000
END:STANDARD
BEGIN:DAYLIGHT
TZOFFSETFROM:-0500
TZOFFSETTO:-0400
TZNAME:EDT
DTSTART:20260308T070000
END:DAYLIGHT
BEGIN:STANDARD
TZOFFSETFROM:-0400
TZOFFSETTO:-0500
TZNAME:EST
DTSTART:20261101T060000
END:STANDARD
BEGIN:DAYLIGHT
TZOFFSETFROM:-0500
TZOFFSETTO:-0400
TZNAME:EDT
DTSTART:20270314T070000
END:DAYLIGHT
BEGIN:STANDARD
TZOFFSETFROM:-0400
TZOFFSETTO:-0500
TZNAME:EST
DTSTART:20271107T060000
END:STANDARD
END:VTIMEZONE
BEGIN:VEVENT
DTSTART;VALUE=DATE:20260313
DTEND;VALUE=DATE:20260316
DTSTAMP:20260423T064809
CREATED:20250812T203535Z
LAST-MODIFIED:20260218T162539Z
UID:16180-1773360000-1773619199@sifualanbaker.com
SUMMARY:Civilian Tactical Instructor Camp
DESCRIPTION:THE C-TAC SELF-DEFENSE PROGRAM \nBridging The Gap Between Martial Arts And Self-Protection. \nAre you searching for a comprehensive self-defense system that goes beyond physical techniques? Look no further than the C-Tac® System. Designed to equip individuals with practical self-defense skills\, the C-Tac® System goes above and beyond by addressing various crucial aspects of personal protection. Let’s explore what sets the C-Tac® System apart and why it’s the right choice for those seeking a holistic approach to self-defense. \n  \nThe C-Tac® System Seamlessly Integrates Everyday Carry (EDC) \nIntegrating EDC principles into all of its training ensures that the tools and gear you carry daily are effectively utilized in self-defense scenarios. Our approach emphasizes the importance of being prepared with the right EDC items—whether it’s a knife\, flashlight\, or firearm\, and knowing how to deploy them efficiently under stress. Throughout our training\, you’ll learn how to incorporate your EDC into various defensive tactics\, blending these tools with your skills to maximize your protection. By making EDC an integral part of your training\, the C-Tac® System empowers you to be ready for any situation\, using the gear you have on hand every day. \nSituational Awareness \nin the C-Tac® System\, situational awareness is a fundamental component. Understanding your surroundings and being able to assess potential threats is crucial for personal safety. Our training focuses on honing your observation skills\, enhancing your ability to identify and assess potential dangers\, and developing a proactive mindset. We don’t just talk about situational awareness—we actively teach and practice techniques and drills designed to embed these critical skills into your nervous system. \nLegal Compliance \nSelf-defense should always operate within the confines of the law. With the C-Tac® System\, you’ll learn self-defense techniques that are not only effective but also legal. Our training emphasizes the importance of understanding the legal framework surrounding self-defense\, ensuring that you are equipped with the knowledge to make informed decisions in high-stress situations. \nPre-Fight Social Exchange \nRecognizing the signs of a potential confrontation before it escalates is essential. The C-Tac® System teaches you how to navigate pre-fight social exchanges\, diffusing conflicts and de-escalating situations whenever possible. By mastering effective communication and conflict resolution skills\, you can mitigate the need for physical confrontation. We ensure that everything we do remains within a framework that is both visually appropriate and socially acceptable.  \nReasonable Force Continuum \nUnderstanding the concept of reasonable force is vital for self-defense. The C-Tac® System follows a carefully structured force continuum\, guiding you through appropriate responses based on the level of threat. By adhering to this continuum\, you will learn to apply force proportionately and ethically\, ensuring your actions are justified in the eyes of the law. \nIntegrated Firearms and Empty Hand Techniques \nThe C-Tac® System recognizes the role firearms play in personal protection. Our training not only covers empty hand techniques but also integrates firearm skills seamlessly. You will learn how to effectively combine the use of firearms with empty hand techniques\, empowering you to handle diverse self-defense scenarios with confidence. \nPractical Grappling for the Street \nGround fighting and grappling can be crucial in real-life altercations. The C-Tac® System strongly emphasizes practical grappling techniques specifically tailored for self-defense situations. Our training provides you with the necessary skills to defend yourself both standing up and on the ground\, preparing you for a range of scenarios. In Tac we study 6 areas of training on the ground: \n\nGrappling: A fundamental study of grappling that blends techniques and strategies from Jiu-Jitsu\, Combat Submission Wrestling (CSW)\, Catch Wrestling\, and Shoot Boxing. This integrated approach emphasizes a more aggressive and effective style\, designed to enhance your versatility and adaptability in combat scenarios.\nEDC Grappling: When weapon systems are introduced into the grappling environment\, fundamental changes must be made. These adjustments impact everything from mechanics and techniques to movement itself. EDC Grappling addresses these critical shifts\, ensuring your grappling skills are effective and adaptable in scenarios involving everyday carry (EDC) weapons.\nAnti-Grappling: Anti- or counter-grappling is the study of the grappling environment\, focusing on understanding its dynamics and learning how to use them to your advantage in a fight. This approach equips you with strategies to neutralize or counter grappling techniques effectively\, turning the tables on your opponent.\nGround Fighting: When you incorporate weapons\, striking\, multiple opponents\, and challenging environments like sidewalks or parking lots\, the dynamics of ground fighting completely change. This approach prepares you for real-world scenarios where adaptability\, awareness\, and tactical thinking are essential for survival.\nDog Boxing: Dog Boxing focuses on the art of “out of position” fighting\, teaching you how to effectively defend and attack when you’re in unconventional or disadvantaged positions. It’s a specialized study designed to prepare you for real-world scenarios where perfect form and positioning aren’t always an option.\nGrounded Weapons Fighting: This isn’t about grappling with a firearm; it’s about applying the tactical principles typically used while standing—such as maintaining distance\, achieving a superior angle\, and controlling timing—all within the context of being on the ground. These strategies go beyond the limitations of traditional grappling to give you a more comprehensive approach to ground-based combat with weapons.\n\nJoin the Team Here: https://civtaccoach.com/ \n  \n  \nC-Tac® strives to bring real-world tactical training to the civilian world.\nTurn on any TV\, watch the news\, and you will see how changes in today’s world and our culture are creating the need for information and training that exceeds what a regular martial art school or Karate program has to offer. \nThe many benefits of martial arts in our culture have been proven over time and are more than mentioned here. Still\, today’s mar \n \ntial arts community does not offer the experience\, background\, or knowledge needed to effectively meet the needs of industries that need more narrow\, specialized applications. \nToday\, many “self-defense” instructors received their certification to teach by attending a three-day weekend seminar. Many groups in the martial arts that call themselves “martial arts practitioners” claim to offer solutions for today’s needs. Still\, when you peel back the layers of the so-called “realistic programs\,” they generally turn out to be just well-marketed nonsense that was pieced together to have something to sell to the unknowing civilian. \nC-Tac will give you a well-rounded\, effective personal protection plan that will cover intelligent threat assessment and planning\, essential firearm use and close-quarter manipulation (Disarms\, Weapon Retention)\, a practical and realistic defensive tactic (Self-Defense) that will work in multiple environments\, including hallways\, doorways\, ground fighting\, and in and around motor vehicles – to name a few. \nThe C-Tac system was developed to mentally and physically prepare you for dangerous situations by teaching you pre-fight conflict-resolution techniques and situational awareness. Both beginners and advanced students can train and become proficient in C-Tac. \nYou will study the urban weapons that allow you to take everyday objects and use them as tools in a threatening encounter. Also\, as part of the urban weapons program\, we show you how to use a bladed weapon or how to defend against the bladed weapon if someone attempts to use one on you. \nThere are two methods of study through the association. One is the student level which primarily involves studying with a certified instructor or studying virtually through the online video Training Academy on this website. Additionally\, the student can also attend one of the many seminars that Coach Baker teaches around the United States annually. The second option is for the Professional Martial Artist that is looking to implement the C-Tac program into their schedule at the Academy. The second option is achieved through the instructor training program. \n  \nJoin the Team Here: https://civtaccoach.com/ \n 
URL:https://sifualanbaker.com/event/civilian-tactical-instructor-camp/
LOCATION:Atlanta Martial Arts Center\, 180 Parkway 575\, Suite 110\, Woodstock\, GA 30188\, Woodstock\, GA\, 30188\, United States
CATEGORIES:C-Tac (Civilian Tactical)
ATTACH;FMTTYPE=image/jpeg:https://sifualanbaker.com/wp-content/uploads/2025/08/C-Tac-2022-seminars-flyer-INSTRUCTORS-1.jpg
END:VEVENT
END:VCALENDAR