BEGIN:VCALENDAR
VERSION:2.0
PRODID:-//Sifu Alan Baker - ECPv6.15.20//NONSGML v1.0//EN
CALSCALE:GREGORIAN
METHOD:PUBLISH
X-ORIGINAL-URL:https://sifualanbaker.com
X-WR-CALDESC:Events for Sifu Alan Baker
REFRESH-INTERVAL;VALUE=DURATION:PT1H
X-Robots-Tag:noindex
X-PUBLISHED-TTL:PT1H
BEGIN:VTIMEZONE
TZID:America/New_York
BEGIN:DAYLIGHT
TZOFFSETFROM:-0500
TZOFFSETTO:-0400
TZNAME:EDT
DTSTART:20240310T070000
END:DAYLIGHT
BEGIN:STANDARD
TZOFFSETFROM:-0400
TZOFFSETTO:-0500
TZNAME:EST
DTSTART:20241103T060000
END:STANDARD
BEGIN:DAYLIGHT
TZOFFSETFROM:-0500
TZOFFSETTO:-0400
TZNAME:EDT
DTSTART:20250309T070000
END:DAYLIGHT
BEGIN:STANDARD
TZOFFSETFROM:-0400
TZOFFSETTO:-0500
TZNAME:EST
DTSTART:20251102T060000
END:STANDARD
BEGIN:DAYLIGHT
TZOFFSETFROM:-0500
TZOFFSETTO:-0400
TZNAME:EDT
DTSTART:20260308T070000
END:DAYLIGHT
BEGIN:STANDARD
TZOFFSETFROM:-0400
TZOFFSETTO:-0500
TZNAME:EST
DTSTART:20261101T060000
END:STANDARD
END:VTIMEZONE
BEGIN:VEVENT
DTSTART;VALUE=DATE:20251017
DTEND;VALUE=DATE:20251018
DTSTAMP:20260423T154259
CREATED:20250915T213124Z
LAST-MODIFIED:20250915T213222Z
UID:16380-1760659200-1760745599@sifualanbaker.com
SUMMARY:Monthly Coaching Days with Alan Baker
DESCRIPTION:Monthly Coaching Days with Coach Alan Baker\nFor over four decades\, Alan has been a driving force in the martial arts industry\, running multiple successful academies and building martial arts-related businesses that have set new standards in the field. He has developed international associations \nfor some of the biggest names in martial arts\, earning recognition as one of the foremost influencers in the industry. Leveraging his extensive experience\, Alan has coached hundreds of professional martial artists worldwide\, helping them elevate their academies\, optimize operations\, and achieve greater success. His proven expertise and unique insights make him the go-to mentor for martial arts professionals looking to take their businesses to the next level. \nEach month\, Coach Alan sets aside single dedicated days for one-on-one Zoom coaching with the clients he supports worldwide. Time slots are limited and often book out quickly\, so sessions can be reserved up to one year in advance. Coaching is tailored to your goals and draws on Alan’s work in business\, leadership\, and the martial arts. \nWhat we work on\n\n\nBusiness development: offers\, pricing\, marketing\, retention\, operations\, and event planning \n\n\nSelf-leadership through the Warriors Path program: mindset\, time blocking\, execution habits\, and accountability \n\n\nInstructor development: curriculum design\, class structure\, testing standards\, and communication skills \n\n\nTechnical training blocks by request: Clients will cover one or more of the multiple martial arts offered by Coach Alan  \n\n\nHow sessions run\n\n\n60 minute Zoom sessions\, with 90 minute deep dives available \n\n\nShort pre-session intake to clarify objectives and context \n\n\nFocused work during the call with clear next actions \n\n\nOptional follow-up notes and accountability check-ins \n\n\nClients from around the world use these sessions to strengthen their business\, elevate their teaching\, or refine specific technical skills. Because availability is limited\, early scheduling is recommended. If you would like to reserve a spot or discuss which format fits you best\, reply here and we will get you on the calendar. \nIf you are ready to move forward you can contact Jennifer Wood from out team contact page Here: https://sifualanbaker.com/our-team/ \n 
URL:https://sifualanbaker.com/event/monthly-coaching-days-with-alan-baker/
LOCATION:VA
ATTACH;FMTTYPE=image/jpeg:https://sifualanbaker.com/wp-content/uploads/2025/09/C-Tac-20250329074919-1304-FTL-NS-C-scaled.jpg
END:VEVENT
END:VCALENDAR