BEGIN:VCALENDAR
VERSION:2.0
PRODID:-//Sifu Alan Baker - ECPv6.15.20//NONSGML v1.0//EN
CALSCALE:GREGORIAN
METHOD:PUBLISH
X-ORIGINAL-URL:https://sifualanbaker.com
X-WR-CALDESC:Events for Sifu Alan Baker
REFRESH-INTERVAL;VALUE=DURATION:PT1H
X-Robots-Tag:noindex
X-PUBLISHED-TTL:PT1H
BEGIN:VTIMEZONE
TZID:America/New_York
BEGIN:DAYLIGHT
TZOFFSETFROM:-0500
TZOFFSETTO:-0400
TZNAME:EDT
DTSTART:20240310T070000
END:DAYLIGHT
BEGIN:STANDARD
TZOFFSETFROM:-0400
TZOFFSETTO:-0500
TZNAME:EST
DTSTART:20241103T060000
END:STANDARD
BEGIN:DAYLIGHT
TZOFFSETFROM:-0500
TZOFFSETTO:-0400
TZNAME:EDT
DTSTART:20250309T070000
END:DAYLIGHT
BEGIN:STANDARD
TZOFFSETFROM:-0400
TZOFFSETTO:-0500
TZNAME:EST
DTSTART:20251102T060000
END:STANDARD
BEGIN:DAYLIGHT
TZOFFSETFROM:-0500
TZOFFSETTO:-0400
TZNAME:EDT
DTSTART:20260308T070000
END:DAYLIGHT
BEGIN:STANDARD
TZOFFSETFROM:-0400
TZOFFSETTO:-0500
TZNAME:EST
DTSTART:20261101T060000
END:STANDARD
END:VTIMEZONE
BEGIN:VEVENT
DTSTART;TZID=America/New_York:20250323T130000
DTEND;TZID=America/New_York:20250323T160000
DTSTAMP:20260424T063614
CREATED:20250112T182905Z
LAST-MODIFIED:20250127T010753Z
UID:13508-1742734800-1742745600@sifualanbaker.com
SUMMARY:Keysi Fighting Method Seminar - Atlanta GA
DESCRIPTION:We’re excited to announce that Alan Baker\, the U.S. Director of the Keysi Fighting Method\, will be teaching multiple seminars across the U.S. in 2025.  \nThese seminars presents an outstanding opportunity to familiarize yourself with the Keysi Fighting Method. We’ll be covering the basics of this distinctive approach and delving into its various aspects. With several instructors available on the mat to provide assistance\, the seminar is designed to offer valuable insights for both beginners and advanced students alike. Whether you’re just starting out or looking to deepen your expertise\, there will be plenty of relevant information for everyone. \nRegister now here:  https://buy.stripe.com/cN203P2pigRV0IEeVs \nMORE INFO HERE \n 
URL:https://sifualanbaker.com/event/keysi-fighting-method-seminars/
LOCATION:Atlanta Martial Arts Center\, 180 Parkway 575\, Suite 110\, Woodstock\, GA 30188\, Woodstock\, GA\, 30188\, United States
ATTACH;FMTTYPE=image/jpeg:https://sifualanbaker.com/wp-content/uploads/2024/10/Keysi-Fighting-Method-seminar-march-2025-amac.jpg
END:VEVENT
END:VCALENDAR