BEGIN:VCALENDAR
VERSION:2.0
PRODID:-//Sifu Alan Baker - ECPv6.15.20//NONSGML v1.0//EN
CALSCALE:GREGORIAN
METHOD:PUBLISH
X-ORIGINAL-URL:https://sifualanbaker.com
X-WR-CALDESC:Events for Sifu Alan Baker
REFRESH-INTERVAL;VALUE=DURATION:PT1H
X-Robots-Tag:noindex
X-PUBLISHED-TTL:PT1H
BEGIN:VTIMEZONE
TZID:America/New_York
BEGIN:DAYLIGHT
TZOFFSETFROM:-0500
TZOFFSETTO:-0400
TZNAME:EDT
DTSTART:20240310T070000
END:DAYLIGHT
BEGIN:STANDARD
TZOFFSETFROM:-0400
TZOFFSETTO:-0500
TZNAME:EST
DTSTART:20241103T060000
END:STANDARD
BEGIN:DAYLIGHT
TZOFFSETFROM:-0500
TZOFFSETTO:-0400
TZNAME:EDT
DTSTART:20250309T070000
END:DAYLIGHT
BEGIN:STANDARD
TZOFFSETFROM:-0400
TZOFFSETTO:-0500
TZNAME:EST
DTSTART:20251102T060000
END:STANDARD
BEGIN:DAYLIGHT
TZOFFSETFROM:-0500
TZOFFSETTO:-0400
TZNAME:EDT
DTSTART:20260308T070000
END:DAYLIGHT
BEGIN:STANDARD
TZOFFSETFROM:-0400
TZOFFSETTO:-0500
TZNAME:EST
DTSTART:20261101T060000
END:STANDARD
END:VTIMEZONE
BEGIN:VEVENT
DTSTART;TZID=America/New_York:20250314T100000
DTEND;TZID=America/New_York:20250316T170000
DTSTAMP:20260424T063615
CREATED:20250112T181312Z
LAST-MODIFIED:20250127T005736Z
UID:13499-1741946400-1742144400@sifualanbaker.com
SUMMARY:3rd Annual Living Mechanics Jiu-Jitsu Gathering Sarasota\, Florida
DESCRIPTION:Join us for three days of Jiu-Jitsu training in Southern Florida with 4th Degree Black Belt\, Alan Baker! This year’s conference will be hosted by Sifu LaVonne Martin at her Martin Academy of Martial Arts in Sarasota\, Florida\, just a short distance from some of the most beautiful beaches in the United States. \nRegister now here: https://buy.stripe.com/14kdUFgg84591MI14l \nMORE INFO HERE \nProfessor has always focused on the self-defense approach in everything he does. After over 40 years of studying and training in multiple grappling\, ground fighting\, and pummeling arts\, Professor Alan has developed his unique approach to teaching grappling & Jiu-Jitsu. His background in teaching and training with personal protection agents\, law enforcement groups\, and military units combined influenced his distinctive approach. Additionally\, he integrated his experience in several other forms of martial arts and their unique approach to teaching body alignment\, placement\, and mechanical advantage. Integrating all these elements necessitated a shift in training approach\, particularly when incorporating a firearm into the grappling environment. Training with your EDC alters everything\, right down to your basic techniques. This added layer of information and mindset led to the curriculum being dubbed “living mechanics\,” ultimately becoming its namesake. \n 
URL:https://sifualanbaker.com/event/3rd-annual-living-mechanics-jiu-jitsu-gathering-sarasota/
LOCATION:Martin Academy Of Martial Arts\, 6341 Porter Rd STE 5\, Sarasota\, FL 34240\, USA\, Sarasota\, Florida\, 34240\, United States
ATTACH;FMTTYPE=image/jpeg:https://sifualanbaker.com/wp-content/uploads/2025/01/2024-sifu-buttons-Brazilian-Jiu-JitsU-CAMP-BUTTON-copy-2025.jpg
END:VEVENT
END:VCALENDAR