BEGIN:VCALENDAR
VERSION:2.0
PRODID:-//Sifu Alan Baker - ECPv6.15.20//NONSGML v1.0//EN
CALSCALE:GREGORIAN
METHOD:PUBLISH
X-ORIGINAL-URL:https://sifualanbaker.com
X-WR-CALDESC:Events for Sifu Alan Baker
REFRESH-INTERVAL;VALUE=DURATION:PT1H
X-Robots-Tag:noindex
X-PUBLISHED-TTL:PT1H
BEGIN:VTIMEZONE
TZID:America/New_York
BEGIN:DAYLIGHT
TZOFFSETFROM:-0500
TZOFFSETTO:-0400
TZNAME:EDT
DTSTART:20240310T070000
END:DAYLIGHT
BEGIN:STANDARD
TZOFFSETFROM:-0400
TZOFFSETTO:-0500
TZNAME:EST
DTSTART:20241103T060000
END:STANDARD
BEGIN:DAYLIGHT
TZOFFSETFROM:-0500
TZOFFSETTO:-0400
TZNAME:EDT
DTSTART:20250309T070000
END:DAYLIGHT
BEGIN:STANDARD
TZOFFSETFROM:-0400
TZOFFSETTO:-0500
TZNAME:EST
DTSTART:20251102T060000
END:STANDARD
BEGIN:DAYLIGHT
TZOFFSETFROM:-0500
TZOFFSETTO:-0400
TZNAME:EDT
DTSTART:20260308T070000
END:DAYLIGHT
BEGIN:STANDARD
TZOFFSETFROM:-0400
TZOFFSETTO:-0500
TZNAME:EST
DTSTART:20261101T060000
END:STANDARD
END:VTIMEZONE
BEGIN:VEVENT
DTSTART;VALUE=DATE:20250227
DTEND;VALUE=DATE:20250303
DTSTAMP:20260424T063447
CREATED:20250112T200855Z
LAST-MODIFIED:20250127T005904Z
UID:13570-1740614400-1740959999@sifualanbaker.com
SUMMARY:Core Medical Group’s 2025 Military Appreciation Weekend - Beaufort\, South Carolina
DESCRIPTION:2025 Military Appreciation Weekend Overview \nWHO: Core Medical Foundation & OP FOB \n                Special Guests such as: \n\nJon Bernthal\nJason Redman\nMel Chancey\nNick Koumalatsos\nCody Alford\nByron Rogers\nCody Babay\nRay Cash Care\nMatt Vincent\nLou Valoze\nJosh Hollyfield\nBen Bunn\nAnd other surprise special guests!\n\n WHAT: Military Appreciation Weekend \n\nSkeet shooting\nPistol Range\nBJJ classes\nSituational Awareness Classes\nBass Fishing\n3D Archery\nSniper Experience\nCountry Music Concert\n\nWHEN: Friday\, February 28th- Sunday\, March 2nd \nWHERE: OPFOB – 328 LAKE VIEW DR. \n    RIDGELAND\, SC 29936 \nMore info Here: https://www.eventbrite.com/e/4th-annual-military-appreciation-weekend-sponsored-by-core-medical-group-tickets-1002531076437?aff=oddtdtcreator \nIf you have any questions\, please reach out to COLTON HILL – chill@coremedicalgrp.com
URL:https://sifualanbaker.com/event/core-medical-groups-2025-military-appreciation-weekend/
LOCATION:OPFOB\, 328 LAKE VIEW DR\, RIDGELAND\, SC\, 29936\, United States
ATTACH;FMTTYPE=image/jpeg:https://sifualanbaker.com/wp-content/uploads/2025/01/471768078_18364263742190890_2873727560851443998_n-1-1.jpg
END:VEVENT
END:VCALENDAR