BEGIN:VCALENDAR
VERSION:2.0
PRODID:-//Sifu Alan Baker - ECPv6.15.20//NONSGML v1.0//EN
CALSCALE:GREGORIAN
METHOD:PUBLISH
X-ORIGINAL-URL:https://sifualanbaker.com
X-WR-CALDESC:Events for Sifu Alan Baker
REFRESH-INTERVAL;VALUE=DURATION:PT1H
X-Robots-Tag:noindex
X-PUBLISHED-TTL:PT1H
BEGIN:VTIMEZONE
TZID:America/New_York
BEGIN:DAYLIGHT
TZOFFSETFROM:-0500
TZOFFSETTO:-0400
TZNAME:EDT
DTSTART:20240310T070000
END:DAYLIGHT
BEGIN:STANDARD
TZOFFSETFROM:-0400
TZOFFSETTO:-0500
TZNAME:EST
DTSTART:20241103T060000
END:STANDARD
BEGIN:DAYLIGHT
TZOFFSETFROM:-0500
TZOFFSETTO:-0400
TZNAME:EDT
DTSTART:20250309T070000
END:DAYLIGHT
BEGIN:STANDARD
TZOFFSETFROM:-0400
TZOFFSETTO:-0500
TZNAME:EST
DTSTART:20251102T060000
END:STANDARD
BEGIN:DAYLIGHT
TZOFFSETFROM:-0500
TZOFFSETTO:-0400
TZNAME:EDT
DTSTART:20260308T070000
END:DAYLIGHT
BEGIN:STANDARD
TZOFFSETFROM:-0400
TZOFFSETTO:-0500
TZNAME:EST
DTSTART:20261101T060000
END:STANDARD
END:VTIMEZONE
BEGIN:VEVENT
DTSTART;TZID=America/New_York:20250223T140000
DTEND;TZID=America/New_York:20250223T170000
DTSTAMP:20260424T081233
CREATED:20250112T195157Z
LAST-MODIFIED:20250112T195209Z
UID:13561-1740319200-1740330000@sifualanbaker.com
SUMMARY:Brazilian Jiu-Jitsu Seminar Cleveland TN
DESCRIPTION:The Academy is an organized safe\, professional atmosphere for you and your family to train. Due to this you will see in our classrooms professional adults and youth striving for personal development and growth\, as they get in the best shape of their lives. If you are considering getting into martial arts for fitness or personal defense / self defense\, give the academy a call and we will arrange a free class or an introductory lesson for you at the school with one of our instructors. \nhttp://clevelanddefenseacademy.com/ \n 
URL:https://sifualanbaker.com/event/brazilian-jiu-jitsu-seminar-cleveland-tn/
LOCATION:The Academy Cleveland Tenn\, 2382 Blue Springs Road\, Cleveland\, TN\, 37311\, United States
ATTACH;FMTTYPE=image/jpeg:https://sifualanbaker.com/wp-content/uploads/2024/10/Cleveland-Seminar-1-1.jpg
END:VEVENT
END:VCALENDAR